BEGIN:VCALENDAR
VERSION:2.0
PRODID:-//Carroll County Ag Center - ECPv6.7.0//NONSGML v1.0//EN
CALSCALE:GREGORIAN
METHOD:PUBLISH
X-ORIGINAL-URL:https://carrollcountyagcenter.com
X-WR-CALDESC:Events for Carroll County Ag Center
REFRESH-INTERVAL;VALUE=DURATION:PT1H
X-Robots-Tag:noindex
X-PUBLISHED-TTL:PT1H
BEGIN:VTIMEZONE
TZID:America/New_York
BEGIN:DAYLIGHT
TZOFFSETFROM:-0500
TZOFFSETTO:-0400
TZNAME:EDT
DTSTART:20260308T070000
END:DAYLIGHT
BEGIN:STANDARD
TZOFFSETFROM:-0400
TZOFFSETTO:-0500
TZNAME:EST
DTSTART:20261101T060000
END:STANDARD
END:VTIMEZONE
BEGIN:VEVENT
DTSTART;TZID=America/New_York:20260207T170000
DTEND;TZID=America/New_York:20260207T230000
DTSTAMP:20260423T063008
CREATED:20260106T190103Z
LAST-MODIFIED:20260112T184658Z
UID:10001068-1770483600-1770505200@carrollcountyagcenter.com
SUMMARY:Shogun Amateur MMA Kick Boxing- 7th
DESCRIPTION:February 7\, 2026 \nDoors open @ 5:00pm \nFirst Fight @ 6:00pm \nTickets: http://nitrotickets.com/event/1098/Shogun-1fights-1Challenger-1Series-1–10207 \nBleacher seating: $50.00 each \nPremium seating: $60.00 each \nVIP (1st 2 Rows): $100.00 each \nVIP Table (seats 8): $750.00 each
URL:https://carrollcountyagcenter.com/event/coming-soon-mma-kick-boxing-7th/
LOCATION:Carroll County Agriculture Center\, 706 Agriculture Dr.\, Westminster\, MD\, 21157\, United States
ATTACH;FMTTYPE=image/png:https://carrollcountyagcenter.com/wp-content/uploads/2026/01/Logo.png
END:VEVENT
END:VCALENDAR