BEGIN:VCALENDAR
VERSION:2.0
PRODID:-//Carroll County Ag Center - ECPv6.7.0//NONSGML v1.0//EN
CALSCALE:GREGORIAN
METHOD:PUBLISH
X-WR-CALNAME:Carroll County Ag Center
X-ORIGINAL-URL:https://carrollcountyagcenter.com
X-WR-CALDESC:Events for Carroll County Ag Center
REFRESH-INTERVAL;VALUE=DURATION:PT1H
X-Robots-Tag:noindex
X-PUBLISHED-TTL:PT1H
BEGIN:VTIMEZONE
TZID:UTC
BEGIN:STANDARD
TZOFFSETFROM:+0000
TZOFFSETTO:+0000
TZNAME:UTC
DTSTART:20220101T000000
END:STANDARD
END:VTIMEZONE
BEGIN:VEVENT
DTSTART;TZID=UTC:20220611T100000
DTEND;TZID=UTC:20220611T190000
DTSTAMP:20260423T104524
CREATED:20220518T111944Z
LAST-MODIFIED:20220518T112113Z
UID:10000859-1654941600-1654974000@carrollcountyagcenter.com
SUMMARY:Celtic Festival Volunteers Needed - June 11th
DESCRIPTION:For more information about how to become a Celtic Volunteer please contact: carrollcountycelticfestival@gmail.com \nWork 1/2 the day – play 1/2 the day\, and get a free t-shirt! \n20 volunteers needed. \n 
URL:https://carrollcountyagcenter.com/event/celtic-festival-volunteers-needed-june-11th-2/
LOCATION:Carroll County Agriculture Center\, 706 Agriculture Dr.\, Westminster\, MD\, 21157\, United States
ATTACH;FMTTYPE=image/jpeg:https://carrollcountyagcenter.com/wp-content/uploads/2022/05/2022-celtic-pdf-1.jpg
ORGANIZER;CN="Carroll County Celtic Festival":MAILTO:carrollcountycelticfestival@gmail.com
END:VEVENT
END:VCALENDAR