BEGIN:VCALENDAR
VERSION:2.0
PRODID:-//Carroll County Ag Center - ECPv6.7.0//NONSGML v1.0//EN
CALSCALE:GREGORIAN
METHOD:PUBLISH
X-WR-CALNAME:Carroll County Ag Center
X-ORIGINAL-URL:https://carrollcountyagcenter.com
X-WR-CALDESC:Events for Carroll County Ag Center
REFRESH-INTERVAL;VALUE=DURATION:PT1H
X-Robots-Tag:noindex
X-PUBLISHED-TTL:PT1H
BEGIN:VTIMEZONE
TZID:America/New_York
BEGIN:DAYLIGHT
TZOFFSETFROM:-0500
TZOFFSETTO:-0400
TZNAME:EDT
DTSTART:20250309T070000
END:DAYLIGHT
BEGIN:STANDARD
TZOFFSETFROM:-0400
TZOFFSETTO:-0500
TZNAME:EST
DTSTART:20251102T060000
END:STANDARD
END:VTIMEZONE
BEGIN:VEVENT
DTSTART;TZID=America/New_York:20251018T110000
DTEND;TZID=America/New_York:20251018T220000
DTSTAMP:20260423T033340
CREATED:20250815T175732Z
LAST-MODIFIED:20251018T141239Z
UID:10001032-1760785200-1760824800@carrollcountyagcenter.com
SUMMARY:Battle of the Kings Dog Show - Oct. 18th
DESCRIPTION:Biggest Fun Show & Stack Off in the East Coast \nSaturday\, Oct. 18th – 11am – 10pm \nAll Breed Show Sanctioned By CCR \nAdmission Fee for non participating patrons: $20/person and $10/dog \nRegistration to be in the show is separate. \nSpecial Guest: Donald Murphy \nSpecial Guest: Michael Hornat \nFun Show Judge: June Williams
URL:https://carrollcountyagcenter.com/event/battle-of-the-kings-dog-show-oct-18th/
LOCATION:Carroll County Agriculture Center\, 706 Agriculture Dr.\, Westminster\, MD\, 21157\, United States
ATTACH;FMTTYPE=image/jpeg:https://carrollcountyagcenter.com/wp-content/uploads/2025/08/flyer.jpg
ORGANIZER;CN="Battles of the Kings Dog Show":MAILTO:jocson.jeff@yahoo.com
END:VEVENT
END:VCALENDAR