BEGIN:VCALENDAR
VERSION:2.0
PRODID:-//Carroll County Ag Center - ECPv6.7.0//NONSGML v1.0//EN
CALSCALE:GREGORIAN
METHOD:PUBLISH
X-WR-CALNAME:Carroll County Ag Center
X-ORIGINAL-URL:https://carrollcountyagcenter.com
X-WR-CALDESC:Events for Carroll County Ag Center
REFRESH-INTERVAL;VALUE=DURATION:PT1H
X-Robots-Tag:noindex
X-PUBLISHED-TTL:PT1H
BEGIN:VTIMEZONE
TZID:America/New_York
BEGIN:DAYLIGHT
TZOFFSETFROM:-0500
TZOFFSETTO:-0400
TZNAME:EDT
DTSTART:20250309T070000
END:DAYLIGHT
BEGIN:STANDARD
TZOFFSETFROM:-0400
TZOFFSETTO:-0500
TZNAME:EST
DTSTART:20251102T060000
END:STANDARD
TZID:UTC
BEGIN:STANDARD
TZOFFSETFROM:+0000
TZOFFSETTO:+0000
TZNAME:UTC
DTSTART:20210101T000000
END:STANDARD
END:VTIMEZONE
BEGIN:VEVENT
DTSTART;TZID=America/New_York:20250913T143000
DTEND;TZID=America/New_York:20250913T220000
DTSTAMP:20260420T101315
CREATED:20240808T153208Z
LAST-MODIFIED:20250214T000239Z
UID:10000969-1757773800-1757800800@carrollcountyagcenter.com
SUMMARY:Baltimore Boxing - Presents
DESCRIPTION:Saturday\, Sept. 13th\nBaltimore Boxing Presents:\nDoors open @ 2:30pm\nFights begin @ 4:15pm\nGeneral Admission starts at $35\nVIP seats still available.\nFor tickets and more information please visit: www.baltimoreboxing.com\n 
URL:https://carrollcountyagcenter.com/event/baltimore-boxing-presents-3/
LOCATION:Carroll County Agriculture Center\, 706 Agriculture Dr.\, Westminster\, MD\, 21157\, United States
ATTACH;FMTTYPE=image/jpeg:https://carrollcountyagcenter.com/wp-content/uploads/2021/04/Baltimore-Boxing-Club.jpg
ORGANIZER;CN="Baltimore Boxing":MAILTO:bmoreboxing@aol.com
END:VEVENT
BEGIN:VEVENT
DTSTART;TZID=UTC:20240203T173000
DTEND;TZID=UTC:20240203T220000
DTSTAMP:20260420T101315
CREATED:20231127T135325Z
LAST-MODIFIED:20240130T144747Z
UID:10000806-1706981400-1706997600@carrollcountyagcenter.com
SUMMARY:MD State Super Heavy Weight Championship Boxing- Feb. 3rd
DESCRIPTION:Baltimore Boxing Presents: \nMaryland State Super Heavy Weight Championship! \nTyler Langer Vs. Keon Massey \n4 Title Fights in 1 NIGHT! \nDoors open @ 5:30pm \nFights begin @ 7:15pm \nVIP seats still available. \nFor tickets and more information please visit: www.baltimoreboxing.com
URL:https://carrollcountyagcenter.com/event/baltimore-boxing-presents-chin-checkers-2-dec-2nd/
LOCATION:Carroll County Agriculture Center\, 706 Agriculture Dr.\, Westminster\, MD\, 21157\, United States
ATTACH;FMTTYPE=image/webp:https://carrollcountyagcenter.com/wp-content/uploads/2022/08/Baltimore-Boxing-Club.webp
ORGANIZER;CN="Baltimore Boxing":MAILTO:bmoreboxing@aol.com
END:VEVENT
BEGIN:VEVENT
DTSTART;TZID=UTC:20231021T150000
DTEND;TZID=UTC:20231021T220000
DTSTAMP:20260420T101315
CREATED:20230927T105648Z
LAST-MODIFIED:20230927T110314Z
UID:10000959-1697900400-1697925600@carrollcountyagcenter.com
SUMMARY:Baltimore Boxing - A Tribute to Murry B. Smith Senior
DESCRIPTION:Brought to you by: Jake “the Snake” Smith & Baltimore Boxing \nA Tribute to Jakes father; Murray B. Smith Sr. “The Bushwhacker” \nTaken by cancer too soon! \nSaturday\, October 21\, 2023 – Doors open at 3pm. \nReserve your VIP tables now; they will sell out! \nwww.baltimoreboxing.com
URL:https://carrollcountyagcenter.com/event/baltimore-boxing-a-tribute-to-murry-b-smith-senior/
LOCATION:Carroll County Agriculture Center\, 706 Agriculture Dr.\, Westminster\, MD\, 21157\, United States
ATTACH;FMTTYPE=image/webp:https://carrollcountyagcenter.com/wp-content/uploads/2022/08/Baltimore-Boxing-Club.webp
ORGANIZER;CN="Baltimore Boxing":MAILTO:bmoreboxing@aol.com
END:VEVENT
BEGIN:VEVENT
DTSTART;TZID=UTC:20230826T150000
DTEND;TZID=UTC:20230826T210000
DTSTAMP:20260420T101315
CREATED:20230114T221834Z
LAST-MODIFIED:20230810T132020Z
UID:10000928-1693062000-1693083600@carrollcountyagcenter.com
SUMMARY:Baltimore Boxing Event - Aug. 26th
DESCRIPTION:https://www.baltimoreboxing.com/tickets \n1st Row VIP for 10 people/table – $750.00 \n2nd Row VIP for 10 people/table – $600.00 \n2nd Row VIP for 8 people/table – $480.00 \nIndividual VIP seating/person – $75.00 \nGeneral Admission seating for 10 people/table – $280.00 \nIndividual General Admission seating – $30.00 – advance tickets – $35 at the door. \nAdvertising Opportunity – $750.00 \n  \nDoors Open – 3:00pm \nVIP Room open – 3:15pm – 4:15pm \nFirst Fight – 4:15pm.
URL:https://carrollcountyagcenter.com/event/baltimore-boxing-event-aug-26th/
LOCATION:Carroll County Agriculture Center\, 706 Agriculture Dr.\, Westminster\, MD\, 21157\, United States
ATTACH;FMTTYPE=image/webp:https://carrollcountyagcenter.com/wp-content/uploads/2022/08/Baltimore-Boxing-Club.webp
ORGANIZER;CN="Baltimore Boxing":MAILTO:bmoreboxing@aol.com
END:VEVENT
BEGIN:VEVENT
DTSTART;TZID=UTC:20230326T150000
DTEND;TZID=UTC:20230326T220000
DTSTAMP:20260420T101315
CREATED:20230308T115747Z
LAST-MODIFIED:20230308T115747Z
UID:10000931-1679842800-1679868000@carrollcountyagcenter.com
SUMMARY:Baltimore Boxing's 30 Year Reunion Hall of Fame! - March 26th
DESCRIPTION:Baltimore Boxing introduces Baltimore Boxing’s Inaugural inductees to The Baltimore Boxing Hall of Fame Annual Event.\n5X World Champion Vinny Paz will be in attendance. \nRing Announcer is 98 Rock’s Kirk McEwen.\nRing Cards by Carly.\n\nWeigh In is at 12:00pm\nDoors open at 3:00pm\nFirst Fights starts at 4:30pm\n\nFor Tickets: Go to Baltimoreboxing.com\n1st ROW VIP tale for 10 people – $750.00\n2nd ROW VIP Table for 10 people – $600.00\n2nd ROW VIP table for 8 people – $480.00\nIndividual VIP seat – $75.00\nGeneral Admission – $35.00\nAdvertising Opportunity – $750.00\n\nFood and drinks available for purchase.
URL:https://carrollcountyagcenter.com/event/baltimore-boxings-30-year-reunion-hall-of-fame-march-26th/
LOCATION:Carroll County Agriculture Center\, 706 Agriculture Dr.\, Westminster\, MD\, 21157\, United States
ATTACH;FMTTYPE=image/webp:https://carrollcountyagcenter.com/wp-content/uploads/2022/08/Baltimore-Boxing-Club.webp
ORGANIZER;CN="Baltimore Boxing":MAILTO:bmoreboxing@aol.com
END:VEVENT
BEGIN:VEVENT
DTSTART;TZID=UTC:20230114T173000
DTEND;TZID=UTC:20230114T230000
DTSTAMP:20260420T101315
CREATED:20220831T095229Z
LAST-MODIFIED:20221213T112547Z
UID:10000882-1673717400-1673737200@carrollcountyagcenter.com
SUMMARY:Baltimore Boxing - Jan. 14th
DESCRIPTION:  \n  \n\n\nhttps://www.baltimoreboxing.com/tickets \n1st Row VIP for 10 people/table – $750.00 \n2nd Row VIP for 10 people/table – $600.00 \n2nd Row VIP for 8 people/table – $480.00 \nIndividual VIP seating/person – $75.00 \nGeneral Admission seating for 10 people/table – $280.00 \nIndividual General Admission seating – $30.00 – advance tickets – $35 at the door. \nAdvertising Opportunity – $750.00 \n  \nDoors Open 5:30pm \nVIP Room open 6-7pm \nFirst Fight 7:15pm.
URL:https://carrollcountyagcenter.com/event/baltimore-boxing-oct-22nd/
LOCATION:Carroll County Agriculture Center\, 706 Agriculture Dr.\, Westminster\, MD\, 21157\, United States
ATTACH;FMTTYPE=image/webp:https://carrollcountyagcenter.com/wp-content/uploads/2022/08/Baltimore-Boxing-Club.webp
ORGANIZER;CN="Baltimore Boxing":MAILTO:bmoreboxing@aol.com
END:VEVENT
BEGIN:VEVENT
DTSTART;TZID=UTC:20220827T183000
DTEND;TZID=UTC:20220827T230000
DTSTAMP:20260420T101315
CREATED:20220809T111717Z
LAST-MODIFIED:20220809T111845Z
UID:10000863-1661625000-1661641200@carrollcountyagcenter.com
SUMMARY:Baltimore Boxing - Aug. 27th
DESCRIPTION:Fight Night in the Country – In Honor of Frank Gilbert “The Pride & Joy of Boxing” and Jake’s Father\, M.B. Smith Sr. \n  \n \nhttps://www.baltimoreboxing.com/tickets \n1st Row VIP for 10 people/table – sold out. \n2nd Row VIP for 10 people/table – $600.00 \n2nd Row VIP for 8 people/table – $480.00 \nIndividual VIP seating/person – $75.00 \nGeneral Admission seating for 10 people/table – $280.00 \nIndividual General Admission seating – $35.00 \nAdvertising Opportunity – $750.00 \n  \nDoors Open 6:30pm \nVIP Room open 7-8pm \nFirst Fight 8:15pm.
URL:https://carrollcountyagcenter.com/event/baltimore-boxing-aug-27th/
LOCATION:Carroll County Agriculture Center\, 706 Agriculture Dr.\, Westminster\, MD\, 21157\, United States
ATTACH;FMTTYPE=image/jpeg:https://carrollcountyagcenter.com/wp-content/uploads/2021/04/Baltimore-Boxing-Club.jpg
ORGANIZER;CN="Baltimore Boxing":MAILTO:bmoreboxing@aol.com
END:VEVENT
BEGIN:VEVENT
DTSTART;TZID=UTC:20220401T183000
DTEND;TZID=UTC:20220401T230000
DTSTAMP:20260420T101315
CREATED:20220401T123801Z
LAST-MODIFIED:20220401T123947Z
UID:10000852-1648837800-1648854000@carrollcountyagcenter.com
SUMMARY:April 1st - Baltimore Boxing
DESCRIPTION:
URL:https://carrollcountyagcenter.com/event/april-1st-baltimore-boxing/
LOCATION:COVID Testing at the Ag. Center\, 706 Ag. Center Dr.\, Westminster\, Maryland\, 21157
ATTACH;FMTTYPE=image/jpeg:https://carrollcountyagcenter.com/wp-content/uploads/2021/04/Baltimore-Boxing-Club.jpg
ORGANIZER;CN="Baltimore Boxing":MAILTO:bmoreboxing@aol.com
END:VEVENT
BEGIN:VEVENT
DTSTART;TZID=UTC:20220218T183000
DTEND;TZID=UTC:20220218T230000
DTSTAMP:20260420T101315
CREATED:20211216T134849Z
LAST-MODIFIED:20220124T105150Z
UID:10000846-1645209000-1645225200@carrollcountyagcenter.com
SUMMARY:Baltimore Boxing
DESCRIPTION:Friday\, February 18\, 2022 \nWeigh-ins at 5:00pm \nDoors open at 6:30pm \nVIP from 7 – 8pm \n1st Fight at 8:15pm \n-1st ROW VIP Table for 10 people – $750.00 \n – 2nd ROW VIP Table for 10 people – $600.00 \n\nIndividual Ticket\, VIP Seat – $75.00\n\n – General Admission Table 8 people – $280.00 \n– Individual ticket\, General Admission – $35.00  \n\nAdvertising – $750.00\n\nTo Order Tickets – www.baltimoreboxing.com \n 
URL:https://carrollcountyagcenter.com/event/baltimore-boxing/
LOCATION:Carroll County Agriculture Center\, 706 Agriculture Dr.\, Westminster\, MD\, 21157\, United States
ATTACH;FMTTYPE=image/jpeg:https://carrollcountyagcenter.com/wp-content/uploads/2021/04/Baltimore-Boxing-Club.jpg
ORGANIZER;CN="Baltimore Boxing":MAILTO:bmoreboxing@aol.com
END:VEVENT
BEGIN:VEVENT
DTSTART;TZID=UTC:20211204T170000
DTEND;TZID=UTC:20211204T230000
DTSTAMP:20260420T101315
CREATED:20210909T111027Z
LAST-MODIFIED:20211117T130119Z
UID:10000658-1638637200-1638658800@carrollcountyagcenter.com
SUMMARY:Baltimore Boxing Presents a Tribute to Mr. Mike Lewis
DESCRIPTION:Baltimore Boxing Presents: A Tribute to Mr. Mike Lewis – A Legendary Boxing Trainer \n  \nDoors Open at 5:00pm \nFeaturing: \n  \nFor Tickets: www.baltimoreboxing.com
URL:https://carrollcountyagcenter.com/event/baltimore-boxing-presents-2/
LOCATION:Carroll County Agriculture Center\, 706 Agriculture Dr.\, Westminster\, MD\, 21157\, United States
ATTACH;FMTTYPE=image/jpeg:https://carrollcountyagcenter.com/wp-content/uploads/2021/04/Baltimore-Boxing-Club.jpg
ORGANIZER;CN="Baltimore Boxing":MAILTO:bmoreboxing@aol.com
END:VEVENT
BEGIN:VEVENT
DTSTART;TZID=UTC:20210717T173000
DTEND;TZID=UTC:20210717T233000
DTSTAMP:20260420T101315
CREATED:20210617T130540Z
LAST-MODIFIED:20210706T133357Z
UID:10000794-1626543000-1626564600@carrollcountyagcenter.com
SUMMARY:Baltimore Boxing Presents: Festival of Fists
DESCRIPTION:A Tribute to M.B. “the Bush Whacker” Smith – (Jake’s Father) \nMain Event: Steve Sparks VS Tyrone “Moose” Russ \nFeaturing: Officer Deonte Duck\, Jacob Thomas\, Justin Maggi\, Valentino Mozzona\, Jake Atwell (from Westminster)\, Michael Benltez-Doleman\, and AT 275lbs – Aidan Grim. \nTickets: $35.00 per person\, Table of 6 – $210.00\, Table of 10 – $600.00\,  VIP (while they last) – $75.00 \nTo purchase tickets: www.baltimoreboxing.com \nDoors open @ 5:30pm\, VIP is from 6:00-7:00pm\, first fight to start after 7:00pm. \n  \nFor more information please contact Jake Smith @ bmoreboxing@aol.com
URL:https://carrollcountyagcenter.com/event/baltimore-boxing-presents/
ATTACH;FMTTYPE=image/jpeg:https://carrollcountyagcenter.com/wp-content/uploads/2021/04/Baltimore-Boxing-Club.jpg
ORGANIZER;CN="Baltimore Boxing":MAILTO:bmoreboxing@aol.com
END:VEVENT
BEGIN:VEVENT
DTSTART;TZID=UTC:20210522T173000
DTEND;TZID=UTC:20210522T233000
DTSTAMP:20260420T101315
CREATED:20210426T102703Z
LAST-MODIFIED:20210427T131807Z
UID:10000790-1621704600-1621726200@carrollcountyagcenter.com
SUMMARY:Baltimore Boxing Event
DESCRIPTION:Baltimore Boxing presents: Olympic Style Boxing \nEast Coast Championship Heavy Weight Division featuring Carroll County grown Steve Sparks vs. Josh Tingler. \nMD State Heavy Weight Championship featuring PJ. Montenjer vs. Justin Maggi with Special Guest; 5 time world Champion Vinny Paz \nMC for the night is 98 Rock’s own Kirk McKewen.  Catering and Spirits by Maryland Mallet. \nThere will be 24 boxers – 12 bouts. \nAll attendees must wear a mask and practice social distancing.  Attendees must be seated when eating and drinking. \nTickets: $35.00 per person\, Table of 6 – $210.00\, Table of 10 – $600.00\,  VIP (while they last) – $75.00 \nDoors open @ 5:30pm\, VIP is from 6:00-7:00pm\, first fight to start after 7:00pm. \n  \nFor more information please contact Jake Smith @ bmoreboxing@aol.com \n  \n  \n 
URL:https://carrollcountyagcenter.com/event/baltimore-boxing-event/
LOCATION:Carroll County Agriculture Center\, 706 Agriculture Dr.\, Westminster\, MD\, 21157\, United States
ATTACH;FMTTYPE=image/jpeg:https://carrollcountyagcenter.com/wp-content/uploads/2021/04/Baltimore-Boxing-Club.jpg
ORGANIZER;CN="Baltimore Boxing":MAILTO:bmoreboxing@aol.com
END:VEVENT
END:VCALENDAR