BEGIN:VCALENDAR
VERSION:2.0
PRODID:-//Carroll County Ag Center - ECPv6.7.0//NONSGML v1.0//EN
CALSCALE:GREGORIAN
METHOD:PUBLISH
X-ORIGINAL-URL:https://carrollcountyagcenter.com
X-WR-CALDESC:Events for Carroll County Ag Center
REFRESH-INTERVAL;VALUE=DURATION:PT1H
X-Robots-Tag:noindex
X-PUBLISHED-TTL:PT1H
BEGIN:VTIMEZONE
TZID:UTC
BEGIN:STANDARD
TZOFFSETFROM:+0000
TZOFFSETTO:+0000
TZNAME:UTC
DTSTART:20260101T000000
END:STANDARD
TZID:America/New_York
BEGIN:DAYLIGHT
TZOFFSETFROM:-0500
TZOFFSETTO:-0400
TZNAME:EDT
DTSTART:20260308T070000
END:DAYLIGHT
BEGIN:STANDARD
TZOFFSETFROM:-0400
TZOFFSETTO:-0500
TZNAME:EST
DTSTART:20261101T060000
END:STANDARD
TZID:UTC
BEGIN:STANDARD
TZOFFSETFROM:+0000
TZOFFSETTO:+0000
TZNAME:UTC
DTSTART:20260101T000000
END:STANDARD
END:VTIMEZONE
BEGIN:VEVENT
DTSTART;TZID=UTC:20261003T080000
DTEND;TZID=UTC:20261003T140000
DTSTAMP:20260423T003951
CREATED:20200824T221820Z
LAST-MODIFIED:20251113T161013Z
UID:10000707-1791014400-1791036000@carrollcountyagcenter.com
SUMMARY:Carroll County Farmer's Market - Celebrating Fall
DESCRIPTION:The Carroll County Farmers’ Market will be Celebrating Fall on October 3rd at the Carroll County Agriculture Center.  The hours will be 8:00am to 2:00pm. \n  \n65 of our regular vendors will be on hand selling all local produce including; apples\, potatoes\, sweet potatoes\, peppers\, and more. Our plant vendors will have mums of every color for sale. Fall decorations include wreaths\, table center pieces\, Indian corn\, bunched corn stalks\, gourds\, small and large pumpkins\, and much more. \nOur food stands provide home baked goods\, including cakes\, pies\, apple dumplings\, scones\, cookies\, breads\, rolls and biscotti. You will also find jams and jellies\, honey\, nuts\, gourmet coffee\, dips and more. There will also be farm fresh eggs\, farm raised beef\, pork\, and lamb and Emu products. \nOur juried vendors will offer an assortment of handmade crafts. Items available include seasonal decorations\, fabric crafts\, jewelry\, photography\, painted wood crafts and more. \nThe cafeteria is open during market hours for breakfast and lunch. Pancakes and egg sandwiches are great for breakfast and don’t miss out on a slice of homemade pie or cake. \nThe Carroll County Farmers Market is held in Westminster\, Maryland at the Agricultural Center\, located on Smith Avenue. Please see website for accurate directions. \nAdmission and Parking are free. We are handicapped accessible. Busses are welcome. \nFollow the signs to “Ag Center”. \nFor more info call Anita at 410-848-7748 or \nVisit our website at www.carrollcountyfarmersmarket.com
URL:https://carrollcountyagcenter.com/event/carroll-county-farmers-market-celebrating-fall/
LOCATION:MD
CATEGORIES:Featured
ATTACH;FMTTYPE=image/jpeg:https://carrollcountyagcenter.com/wp-content/uploads/2020/08/Celebrating-Fall.jpg
ORGANIZER;CN="Carroll County Farmer's Market":MAILTO:ccfm@comcast.net
END:VEVENT
BEGIN:VEVENT
DTSTART;TZID=America/New_York:20261003T090000
DTEND;TZID=America/New_York:20261003T150000
DTSTAMP:20260423T003951
CREATED:20240814T174835Z
LAST-MODIFIED:20251113T161102Z
UID:10000971-1791018000-1791039600@carrollcountyagcenter.com
SUMMARY:Fall Marketplace MD - Oct. 3rd
DESCRIPTION:FALL MARKETPLACE \nPlease join us this year at the Fall Marketplace and shop with over 150 carefully selected vendors featuring handmade crafts and items from your favorite direct sale companies.\nFrom home décor to holiday decorations\, paper crafts to jewelry\, ceramics to wood crafts\, candles to glassware\, children’s items to specialty foods & drinks\, there is something for everyone!
URL:https://carrollcountyagcenter.com/event/fall-marketplace-md-oct-5th/
LOCATION:Carroll County Agriculture Center\, 706 Agriculture Dr.\, Westminster\, MD\, 21157\, United States
ATTACH;FMTTYPE=image/jpeg:https://carrollcountyagcenter.com/wp-content/uploads/2024/08/PUMPKIN.jpg
ORGANIZER;CN="Sykesville Holiday Market Place":MAILTO:sykesvilleholidaymarketplace@gmail.com
END:VEVENT
BEGIN:VEVENT
DTSTART;TZID=America/New_York:20261012T180000
DTEND;TZID=America/New_York:20261012T200000
DTSTAMP:20260423T003951
CREATED:20250815T171247Z
LAST-MODIFIED:20251113T161441Z
UID:10001031-1791828000-1791835200@carrollcountyagcenter.com
SUMMARY:College & Career Fair - Oct. 12th
DESCRIPTION:  \n \nPresents \nMonday\, Oct. 12th – 6:00- 8:00 PM \nCarroll County Ag Center \nShipley Arena\n706 Agricultural\nCenter Drive\,\nWestminster\, MD 21157 \nAcquire information about different college and career opportunities!\nMeet college admission representatives and have a chance to ask questions. \nFor a complete list off colleges click on this link: \nhttps://www.collegefairguide.com/regional-college-fairs/carroll-county-public-schools-college-career-fair
URL:https://carrollcountyagcenter.com/event/college-career-fair-oct-13th/
LOCATION:Carroll County Agriculture Center\, 706 Agriculture Dr.\, Westminster\, MD\, 21157\, United States
ATTACH;FMTTYPE=image/jpeg:https://carrollcountyagcenter.com/wp-content/uploads/2025/08/graduate-pic.jpg
ORGANIZER;CN="Carroll County Public Schools":MAILTO:e_polan@carrollk12.org
END:VEVENT
BEGIN:VEVENT
DTSTART;TZID=UTC:20261017T070000
DTEND;TZID=UTC:20261017T170000
DTSTAMP:20260423T003951
CREATED:20220823T131109Z
LAST-MODIFIED:20251113T161648Z
UID:10000866-1792220400-1792256400@carrollcountyagcenter.com
SUMMARY:AKC Scentworks - Oct. 17th
DESCRIPTION:  \nAKC Scent Work is a sport that mimics the task of working detection dogs \nto locate a scent and communicate to the handler that the scent has been found. \nReal-life detection dogs are trained to search for a variety of things–drugs\, \nexplosives\, human remains\, currency\, other contraband\, living humans \n(such as for Search and Rescue)\, and much more.  AKC Scent Work takes \nthis amazing working relationship and turns it into a fun game that any dog can play.
URL:https://carrollcountyagcenter.com/event/dog-owners-training-club-scentworks-sept-10th-11th/
LOCATION:Carroll County Agriculture Center – 1\, 700 Smith Ave.\, Westminster\, MD\, 21157\, United States
ATTACH;FMTTYPE=image/jpeg:https://carrollcountyagcenter.com/wp-content/uploads/2022/08/AKC-scentwork-2-Copy.jpg
END:VEVENT
BEGIN:VEVENT
DTSTART;TZID=America/New_York:20261017T080000
DTEND;TZID=America/New_York:20261018T170000
DTSTAMP:20260423T003951
CREATED:20260106T185111Z
LAST-MODIFIED:20260106T185111Z
UID:10001065-1792224000-1792342800@carrollcountyagcenter.com
SUMMARY:Coming Soon! Martial Arts Tournament - 17th& 18th
DESCRIPTION:
URL:https://carrollcountyagcenter.com/event/coming-soon-martial-arts-tournament-17th-18th/
LOCATION:MD
END:VEVENT
BEGIN:VEVENT
DTSTART;TZID=UTC:20261018T070000
DTEND;TZID=UTC:20261019T140000
DTSTAMP:20260423T003951
CREATED:20220823T131421Z
LAST-MODIFIED:20251113T161746Z
UID:10000867-1792306800-1792418400@carrollcountyagcenter.com
SUMMARY:AKC Scentworks - Oct. 18th
DESCRIPTION:AKC Scent Work is a sport that mimics the task of working detection dogs to locate a scent and communicate to the handler that the scent has been found. Real-life detection dogs are trained to search for a variety of things–drugs\, explosives\, human remains\, currency\, other contraband\, living humans (such as for Search and Rescue)\, and much more.  AKC Scent Work takes this amazing working relationship and turns it into a fun game that any dog can play.
URL:https://carrollcountyagcenter.com/event/dog-owner-training-club-scentworks-sept-11th/
LOCATION:Carroll County Agriculture Center – 1\, 700 Smith Ave.\, Westminster\, MD\, 21157\, United States
ATTACH;FMTTYPE=image/jpeg:https://carrollcountyagcenter.com/wp-content/uploads/2022/08/AKC-scentwork-2-Copy.jpg
ORGANIZER;CN="German Shepherd Dog Club of Greater Washington D.C.":MAILTO:Emeraldoaks@comcast.net
END:VEVENT
BEGIN:VEVENT
DTSTART;TZID=America/New_York:20261021T080000
DTEND;TZID=America/New_York:20261022T170000
DTSTAMP:20260423T003951
CREATED:20260106T185451Z
LAST-MODIFIED:20260106T185451Z
UID:10001066-1792569600-1792688400@carrollcountyagcenter.com
SUMMARY:Coming Soon! 7th Grade Career Fair - 21st & 2nd
DESCRIPTION:
URL:https://carrollcountyagcenter.com/event/coming-soon-7th-grade-career-fair-21st-2nd/
LOCATION:MD
END:VEVENT
BEGIN:VEVENT
DTSTART;TZID=America/New_York:20261024T080000
DTEND;TZID=America/New_York:20261025T170000
DTSTAMP:20260423T003951
CREATED:20260106T185008Z
LAST-MODIFIED:20260106T185008Z
UID:10001064-1792828800-1792947600@carrollcountyagcenter.com
SUMMARY:Coming Soon!  Gun & Knife Show - 24th & 25th
DESCRIPTION:
URL:https://carrollcountyagcenter.com/event/coming-soon-gun-knife-show-24th-25th/
LOCATION:MD
END:VEVENT
BEGIN:VEVENT
DTSTART;TZID=UTC:20261025T140000
DTEND;TZID=UTC:20261025T160000
DTSTAMP:20260423T003951
CREATED:20250910T211107Z
LAST-MODIFIED:20260106T185354Z
UID:10001053-1792936800-1792944000@carrollcountyagcenter.com
SUMMARY:Trunk or Treat - Oct. 25th
DESCRIPTION:  \n \nJoin us for a Trunk or Treat at the Corn Maze! \nSunday\, Oct. 25th – 2:00pm – 4:00pm \nChildren 15 and younger wear your costume to receive $2.00 off at the Corn Maze.\nCome join us for a great time!\nAny community organizations interested in participating please contact Joe Linthicum so we can plan accordingly.\nFor any questions\, please contact Joe Linthicum at 410-868-2567.
URL:https://carrollcountyagcenter.com/event/trunk-or-treat-nov-2nd/
LOCATION:Carroll County Agriculture Center\, 706 Agriculture Dr.\, Westminster\, MD\, 21157\, United States
ATTACH;FMTTYPE=image/jpeg:https://carrollcountyagcenter.com/wp-content/uploads/2022/08/trunk-or-treat-2.jpg
ORGANIZER;CN="Carroll County Ag. Center":MAILTO:info@carrollcountyagcenter.com
END:VEVENT
BEGIN:VEVENT
DTSTART;TZID=America/New_York:20261028T080000
DTEND;TZID=America/New_York:20261028T170000
DTSTAMP:20260423T003951
CREATED:20260106T185533Z
LAST-MODIFIED:20260106T185533Z
UID:10001067-1793174400-1793206800@carrollcountyagcenter.com
SUMMARY:Coming Soon!  Carroll County Gov. Job Fair - 28th
DESCRIPTION:
URL:https://carrollcountyagcenter.com/event/coming-soon-carroll-county-gov-job-fair-28th/
LOCATION:MD
END:VEVENT
BEGIN:VEVENT
DTSTART;TZID=UTC:20261031T180000
DTEND;TZID=UTC:20261031T220000
DTSTAMP:20260423T003951
CREATED:20250910T211337Z
LAST-MODIFIED:20251113T162136Z
UID:10001054-1793469600-1793484000@carrollcountyagcenter.com
SUMMARY:Corn Maze Halloween Night - Oct. 31st
DESCRIPTION:The Corn Maze starts Friday September 19th and runs every Friday\, Saturday\, and Sunday through November 1st.  We will be open on Saturday\, Oct. 31st for Halloween!\n\nVolunteer Service Learning Opportunities.  We are looking for a group to make this a haunted maze.  Please contact Joe for more information.\n\nThe hours are:  2pm – 10pm\n\nCost are:  Cash Only\nage 4 and under free\nage 5 to 15 is $5.00\nage 16 and over is $10.00\n\nGroups of 15 or more:\nages 5-15 is $4.00\nages 16 and over is $8.00\n\nLast tickets will be sold 1 hour before closing.\n\nSpecial hours can be arranged for groups.\n\nContact person: Joe at linthicumj@hotmail.com
URL:https://carrollcountyagcenter.com/event/corn-maze-halloween-night-oct-31st-2/
LOCATION:Carroll County Agriculture Center\, 706 Agriculture Dr.\, Westminster\, MD\, 21157\, United States
ATTACH;FMTTYPE=image/jpeg:https://carrollcountyagcenter.com/wp-content/uploads/2023/09/halloween.jpg
ORGANIZER;CN="Carroll County Ag. Center":MAILTO:info@carrollcountyagcenter.com
END:VEVENT
END:VCALENDAR