BEGIN:VCALENDAR
VERSION:2.0
PRODID:-//Carroll County Ag Center - ECPv6.7.0//NONSGML v1.0//EN
CALSCALE:GREGORIAN
METHOD:PUBLISH
X-WR-CALNAME:Carroll County Ag Center
X-ORIGINAL-URL:https://carrollcountyagcenter.com
X-WR-CALDESC:Events for Carroll County Ag Center
REFRESH-INTERVAL;VALUE=DURATION:PT1H
X-Robots-Tag:noindex
X-PUBLISHED-TTL:PT1H
BEGIN:VTIMEZONE
TZID:UTC
BEGIN:STANDARD
TZOFFSETFROM:+0000
TZOFFSETTO:+0000
TZNAME:UTC
DTSTART:20260101T000000
END:STANDARD
TZID:UTC
BEGIN:STANDARD
TZOFFSETFROM:+0000
TZOFFSETTO:+0000
TZNAME:UTC
DTSTART:20260101T000000
END:STANDARD
TZID:America/New_York
BEGIN:DAYLIGHT
TZOFFSETFROM:-0500
TZOFFSETTO:-0400
TZNAME:EDT
DTSTART:20260308T070000
END:DAYLIGHT
BEGIN:STANDARD
TZOFFSETFROM:-0400
TZOFFSETTO:-0500
TZNAME:EST
DTSTART:20261101T060000
END:STANDARD
END:VTIMEZONE
BEGIN:VEVENT
DTSTART;TZID=UTC:20260905T080000
DTEND;TZID=UTC:20260905T130000
DTSTAMP:20260422T230751
CREATED:20200302T001443Z
LAST-MODIFIED:20251113T160019Z
UID:10000675-1788595200-1788613200@carrollcountyagcenter.com
SUMMARY:Last Day of the Summer Farmer's Market - Sept. 5th
DESCRIPTION:Saturday\, September 5th.  the Carroll County Farmer’s Market is celebrating Labor Day Weekend.  This is the last date of the Summer Season at the Carroll County Farmers’ Market.   Let us help you with all of your preparations and decorations.  This will be your last chance to stock up on local produce including apples\, potatoes\, peppers\, tomatoes\, cantaloupe\, watermelon\, corn\, pumpkins and more.  Our plant vendors will have mums of every color for sale.  Also\, don’t forget our Celebrating Fall show on October 3rd  for all of your fall decorating needs; hours for the fall show will be 8:00am to 1:00pm. \nOur food stands provide home baked goods\, including cakes\, pies\, scones\, cookies\, breads\, rolls and biscotti. You will also find jams and jellies\, honey\, nuts\, and more. There will also be farm fresh eggs\, and farm raised beef\, pork\, and lamb. \nThe Master Gardeners will be on hand to answer your questions about “putting your garden to bed” plus much more. \nEach week will offer an assortment of handmade crafts. Items available include seasonal decorations\, fabric crafts\, jewelry\, photography\, painted wood crafts and more. \nThe cafeteria is open during market hours for breakfast and lunch. Pancakes and egg sandwiches are great for breakfast and don’t miss out on a slice of homemade pie or cake. \nThe Carroll County Farmers Market is held in Westminster\, Maryland at the Agricultural Center\, located on Smith Avenue\, adjacent to the Farm Museum. \nHours for the Summer Market are from 8am-1pm. \nThe Summer Season of Farm Market runs each Saturday through September 5th. \nThere is no admission and parking is free. \nWe are handicapped accessible. \nBusses are welcome. \nFollow the signs to “Ag Center”. \nFor more info call Anita at 410-848-7748 or check out our website at \nwww.carrollcountyfarmersmarket.com
URL:https://carrollcountyagcenter.com/event/labor-day-weekend-at-the-farmers-market/
LOCATION:Carroll County Agriculture Center – 1\, 700 Smith Ave.\, Westminster\, MD\, 21157\, United States
ATTACH;FMTTYPE=image/jpeg:https://carrollcountyagcenter.com/wp-content/uploads/2020/03/labor-day.jpg
ORGANIZER;CN="Carroll County Farmer's Market":MAILTO:ccfm@comcast.net
END:VEVENT
BEGIN:VEVENT
DTSTART;TZID=UTC:20260911T180000
DTEND;TZID=UTC:20260911T210000
DTSTAMP:20260422T230752
CREATED:20200103T215131Z
LAST-MODIFIED:20260106T180454Z
UID:10000639-1789149600-1789160400@carrollcountyagcenter.com
SUMMARY:Stamp Scrap Art Tour - Sept. 11th - 13th
DESCRIPTION:About SSAT Shows:\nWe are a group of rubber stamp\, scrapbook and paper art exhibitors\, representative of many diverse backgrounds and experiences\, unified in passion and purpose. We produce retail rubber stamp\, scrapbooking and paper art shows. We commit all our financial and human resources to the successful production\, advertising and promotion for each of the Rubber Stamp Conventions. We do this to try to create the best experiences and results for all of our customers\, both exhibitors and consumers. \nRubber Stamp\, Scrapbooking\, and paper crafts show \nFriday 6pm – 9:00 pm – Pre-registered Workshop \nSaturday 10AM-5PM – $8\nSunday 10AM-3PM – $8 \nAdmission: $8.00 cash at the door. \n  \nhttp://www.stampscraparttour.com/
URL:https://carrollcountyagcenter.com/event/stamp-scrap-art-tour-3/
LOCATION:Carroll County Agriculture Center\, 706 Agriculture Dr.\, Westminster\, MD\, 21157\, United States
ATTACH;FMTTYPE=image/jpeg:https://carrollcountyagcenter.com/wp-content/uploads/2020/01/Scrapbooking-845x321.jpg
END:VEVENT
BEGIN:VEVENT
DTSTART;TZID=UTC:20260912T100000
DTEND;TZID=UTC:20260912T170000
DTSTAMP:20260422T230752
CREATED:20210910T094126Z
LAST-MODIFIED:20251117T192321Z
UID:10000800-1789207200-1789232400@carrollcountyagcenter.com
SUMMARY:Stamp\, Scrap Art Show - Sept. 12th
DESCRIPTION:About SSAT Shows:\nWe are a group of rubber stamp\, scrapbook and paper art exhibitors\, representative of many diverse backgrounds and experiences\, unified in passion and purpose. We produce retail rubber stamp\, scrapbooking and paper art shows. We commit all our financial and human resources to the successful production\, advertising and promotion for each of the Rubber Stamp Conventions. We do this to try to create the best experiences and results for all of our customers\, both exhibitors and consumers. \nRubber Stamp\, Scrapbooking\, and paper crafts show \nFriday 6pm – 9:00 pm – Pre-registered Workshop \nSaturday 10AM-5PM – $8\nSunday 10AM-3PM – $8 \nAdmission: $8.00 cash at the door. \n  \nhttp://www.stampscraparttour.com/
URL:https://carrollcountyagcenter.com/event/stamp-scrap-art-show/
LOCATION:Carroll County Agriculture Center\, 706 Agriculture Dr.\, Westminster\, MD\, 21157\, United States
ATTACH;FMTTYPE=image/jpeg:https://carrollcountyagcenter.com/wp-content/uploads/2020/01/Scrapbooking-845x321.jpg
END:VEVENT
BEGIN:VEVENT
DTSTART;TZID=UTC:20260913T100000
DTEND;TZID=UTC:20260913T150000
DTSTAMP:20260422T230752
CREATED:20210910T094642Z
LAST-MODIFIED:20251117T192419Z
UID:10000801-1789293600-1789311600@carrollcountyagcenter.com
SUMMARY:Stamp Scrap Art Tour - Sept. 13th
DESCRIPTION:About SSAT Shows:\nWe are a group of rubber stamp\, scrapbook and paper art exhibitors\, representative of many diverse backgrounds and experiences\, unified in passion and purpose. We produce retail rubber stamp\, scrapbooking and paper art shows. We commit all our financial and human resources to the successful production\, advertising and promotion for each of the Rubber Stamp Conventions. We do this to try to create the best experiences and results for all of our customers\, both exhibitors and consumers. \nRubber Stamp\, Scrapbooking\, and paper crafts show \nFriday 6pm – 9:00 pm – Pre-registered Workshop \nSaturday 10AM-5PM – $8\nSunday 10AM-3PM – $8 \nAdmission: $8.00 cash at the door. \n  \nhttp://www.stampscraparttour.com/
URL:https://carrollcountyagcenter.com/event/stamp-scrap-art-tour/
LOCATION:Carroll County Agriculture Center\, 706 Agriculture Dr.\, Westminster\, MD\, 21157\, United States
ATTACH;FMTTYPE=image/jpeg:https://carrollcountyagcenter.com/wp-content/uploads/2020/01/Scrapbooking-845x321.jpg
END:VEVENT
BEGIN:VEVENT
DTSTART;TZID=UTC:20260913T140000
DTEND;TZID=UTC:20260913T160000
DTSTAMP:20260422T230752
CREATED:20251113T160758Z
LAST-MODIFIED:20251113T160758Z
UID:10001061-1789308000-1789315200@carrollcountyagcenter.com
SUMMARY:Anti Rabies Clinic - Sept. 13th
DESCRIPTION:Anti-Rabies Clinic for Dogs\, Cats\, Ferrets Located in the Therapeutic Riding Program building at the Carroll County Ag. Center \nSponsored by: Carroll County Health Department Bureau of Environmental Health \nPhone:  410-876-1884   –   Cost: is $10.00 \nAll vaccinations administered by licensed veterinarians.  All animals must be restrained by a leash or carrier.  Maryland law requires all cats\, dogs\, and ferrets over 4 months of age to be vaccinated against rabies.
URL:https://carrollcountyagcenter.com/event/anti-rabies-clinic-sept-13th/
LOCATION:Therapeutic Riding Barn\, 706 Ag. Center Dr.\, Westminster\, Maryland\, 21157
ATTACH;FMTTYPE=image/jpeg:https://carrollcountyagcenter.com/wp-content/uploads/2020/01/dogs-cats-home.jpg
END:VEVENT
BEGIN:VEVENT
DTSTART;TZID=UTC:20260923T090000
DTEND;TZID=UTC:20260923T140000
DTSTAMP:20260422T230752
CREATED:20210825T113343Z
LAST-MODIFIED:20251113T160431Z
UID:10000652-1790154000-1790172000@carrollcountyagcenter.com
SUMMARY:Aging Your Way Expo! - Sept. 23rd
DESCRIPTION:FREE: \nTechnology Assistance \nHealth Screenings \nPrescription Medication Disposal \nDesignated Veterans Area \nProper Use of Mobility Devices \nCommunity Programs and Fitness Demonstrations \nLearn about Medical Cannabis\, latest trends in Frauds and Scams\, and Local COVID-19 Info and Updates \nGrab and Go Lunches \nWalker\, Wheelchair and Rollator Repair Clinic \nAND MUCH MORE! \nwebsite: Senioursonthegoexpo.carrollcountymd.gov \nPhone: 410-386-3800 \nemail: seniorexpo@carrollcountymd.gov \nFacebook: #SOTGExpo2024 \nMedia Sponsors: Carroll county Times and WTTR
URL:https://carrollcountyagcenter.com/event/seniors-on-the-go-expo/
LOCATION:Carroll County Agriculture Center\, 706 Agriculture Dr.\, Westminster\, MD\, 21157\, United States
ATTACH;FMTTYPE=image/png:https://carrollcountyagcenter.com/wp-content/uploads/2020/01/Senior-Aging-color-logo-with-MAP.png
ORGANIZER;CN="Seniors on the Go Expo":MAILTO:seniorexpo@carrollcountymd.gov
END:VEVENT
BEGIN:VEVENT
DTSTART;TZID=America/New_York:20260926T090000
DTEND;TZID=America/New_York:20260926T130000
DTSTAMP:20260422T230752
CREATED:20240724T164850Z
LAST-MODIFIED:20251113T160530Z
UID:10000965-1790413200-1790427600@carrollcountyagcenter.com
SUMMARY:Lauren's Auto Show - Sept. 26th
DESCRIPTION:3rd Annual Memorial Lauren’s Auto Show & Cancer Benefit \nSeptember 26\, 2026 – 9am to 1pm \nShow Registration: 9am – 11am – $20 per vehicle \n(Food Trucks\, Music\, 50/50 raffles\, snowballs\, gift basket silent auction\, donation box.) \nBenefitting – L Spivey Cancer Awareness Foundation. \nAll proceeds from vehicle registration\, donations\, gift baskets auction\, T-shirts sales\, 50: of the 50/50 raffle and 10% of food and beverage sales will benefit the above organizations. \nDonations payable to: L Spivey Cancer Awareness Foundation Corp. \nFor more info e-mail: lscancerfoundation@yahoo.com \n  \nTrophy Class’s : \n\nPeople’s Choice – Best Car – Best ruck – Best Motorcycle – Best Semi – Best Jeep – Best Import\nEvent Staff Choice – Best in Show
URL:https://carrollcountyagcenter.com/event/laurens-auto-show-sept-15th/
LOCATION:Carroll County Agriculture Center – 1\, 700 Smith Ave.\, Westminster\, MD\, 21157\, United States
ATTACH;FMTTYPE=image/jpeg:https://carrollcountyagcenter.com/wp-content/uploads/2024/07/Spivey-Car-logo.jpg
ORGANIZER;CN="L Spivey Cancer Awareness Foundation Corp":MAILTO:lscancerfoundation@yahoo.com
END:VEVENT
END:VCALENDAR