BEGIN:VCALENDAR
VERSION:2.0
PRODID:-//Carroll County Ag Center - ECPv6.7.0//NONSGML v1.0//EN
CALSCALE:GREGORIAN
METHOD:PUBLISH
X-ORIGINAL-URL:https://carrollcountyagcenter.com
X-WR-CALDESC:Events for Carroll County Ag Center
REFRESH-INTERVAL;VALUE=DURATION:PT1H
X-Robots-Tag:noindex
X-PUBLISHED-TTL:PT1H
BEGIN:VTIMEZONE
TZID:UTC
BEGIN:STANDARD
TZOFFSETFROM:+0000
TZOFFSETTO:+0000
TZNAME:UTC
DTSTART:20260101T000000
END:STANDARD
TZID:UTC
BEGIN:STANDARD
TZOFFSETFROM:+0000
TZOFFSETTO:+0000
TZNAME:UTC
DTSTART:20260101T000000
END:STANDARD
TZID:America/New_York
BEGIN:DAYLIGHT
TZOFFSETFROM:-0500
TZOFFSETTO:-0400
TZNAME:EDT
DTSTART:20260308T070000
END:DAYLIGHT
BEGIN:STANDARD
TZOFFSETFROM:-0400
TZOFFSETTO:-0500
TZNAME:EST
DTSTART:20261101T060000
END:STANDARD
END:VTIMEZONE
BEGIN:VEVENT
DTSTART;TZID=UTC:20260731T080000
DTEND;TZID=UTC:20260808T170000
DTSTAMP:20260422T212645
CREATED:20230114T220954Z
LAST-MODIFIED:20251113T154722Z
UID:10000927-1785484800-1786208400@carrollcountyagcenter.com
SUMMARY:Carroll County 4-H & FFA Fair - July 31 - Aug. 8
DESCRIPTION:See Carroll County Fair website for information and schedule.
URL:https://carrollcountyagcenter.com/event/carroll-county-4-h-ffa-fair-july-28-aug-5/
LOCATION:Carroll County Agriculture Center\, 706 Agriculture Dr.\, Westminster\, MD\, 21157\, United States
ATTACH;FMTTYPE=image/jpeg:https://carrollcountyagcenter.com/wp-content/uploads/2022/05/fair.jpg
ORGANIZER;CN="Carroll County Fair":MAILTO:manager@carrollcountyfair.com
END:VEVENT
BEGIN:VEVENT
DTSTART;TZID=UTC:20260801T080000
DTEND;TZID=UTC:20260801T130000
DTSTAMP:20260422T212645
CREATED:20200301T235732Z
LAST-MODIFIED:20251113T154918Z
UID:10000567-1785571200-1785589200@carrollcountyagcenter.com
SUMMARY:The Farmer's Market will be on the lower field today. - Aug. 1st
DESCRIPTION:On Saturday\, Aug. 1st \, the Carroll County Farmer’s Market will be located on the lower grassy field during the 4-H Fair.  Come early so you don’t miss out on all of the freshly picked produce our market has to offer. \nThis week customers will find available peaches\, tomatoes\, peppers\, cucumbers\, squash\, potatoes\, green beans\,  sweet corn\, cantaloupes\, broccoli\, cauliflower\, cucumbers\, cabbage\, kale\, carrots\, beets\, and onions. \nOur food stands provide home baked goods\, including cakes\, pies\, scones\, cookies\, breads\, rolls and \nbiscotti. You will also find jams and jellies\, honey\, nuts\, fresh eggs and more. \nEach week will offer an assortment of handmade crafts. Items available include seasonal decorations\, fabric crafts\, jewelry\, photography\, painted wood crafts and more. \nThe Carroll County Farmers Market is located at: \nCarroll County Agriculture Center \n706 Agriculture Center Dr. \nWestminster\, MD 21157 \n  \nThe Summer Market is open every Saturday through September 5th. \nHours are 8:00am – 1:00pm. \nParking and Admission are FREE. \nWe are handicapped accessible. \nBusses are welcome. \nFollow the signs to “Ag Center”. \nFor more info call Anita at 410-848-7748 or check out our website at \nwww.carrollcountyfamersmarket.com
URL:https://carrollcountyagcenter.com/event/the-farmers-market-will-be-on-the-lower-field-today/
LOCATION:Carroll County Agriculture Center\, 706 Agriculture Dr.\, Westminster\, MD\, 21157\, United States
ATTACH;FMTTYPE=image/jpeg:https://carrollcountyagcenter.com/wp-content/uploads/2020/03/Farmers-Market-Guide_Cover.jpg
ORGANIZER;CN="Carroll County Farmer's Market":MAILTO:ccfm@comcast.net
END:VEVENT
BEGIN:VEVENT
DTSTART;TZID=UTC:20260808T080000
DTEND;TZID=UTC:20260808T130000
DTSTAMP:20260422T212645
CREATED:20200301T235858Z
LAST-MODIFIED:20251113T155210Z
UID:10000569-1786176000-1786194000@carrollcountyagcenter.com
SUMMARY:The Farmer's Market will be located on the lower field today - Aug. 8th
DESCRIPTION:On Saturday\, Aug. 8th\, the Carroll County Farmer’s Market will be located on the lower grassy field during the 4-H Fair.  Come early so you don’t miss out on all of the freshly picked produce our market has to offer. \nThis week customers will find available peaches\, tomatoes\, peppers\, cucumbers\, squash\, potatoes\, green beans\,  sweet corn\, cantaloupes\, broccoli\, cauliflower\, cucumbers\, cabbage\, kale\, carrots\, beets\, and onions. \nOur food stands provide home baked goods\, including cakes\, pies\, scones\, cookies\, breads\, rolls and \nbiscotti. You will also find jams and jellies\, honey\, nuts\, fresh eggs and more. \nEach week will offer an assortment of handmade crafts. Items available include seasonal decorations\, fabric crafts\, jewelry\, photography\, painted wood crafts and more. \nThe Carroll County Farmers Market is located at: \nCarroll County Agriculture Center \n706 Agriculture Center Dr. \nWestminster\, MD 21157 \n  \nThe Summer Market is open every Saturday through September 5th. \nHours are 8:00am – 1:00pm. \nParking and Admission are FREE. \nWe are handicapped accessible. \nBusses are welcome. \nFollow the signs to “Ag Center”. \nFor more info call Anita at 410-848-7748 or check out our website at \nwww.carrollcountyfamersmarket.com
URL:https://carrollcountyagcenter.com/event/the-farmers-market-will-be-located-on-the-lower-field-today/
LOCATION:Carroll County Agriculture Center\, 706 Agriculture Dr.\, Westminster\, MD\, 21157\, United States
ATTACH;FMTTYPE=image/jpeg:https://carrollcountyagcenter.com/wp-content/uploads/2020/03/Farmers-Market-Guide_Cover.jpg
ORGANIZER;CN="Carroll County Farmer's Market":MAILTO:ccfm@comcast.net
END:VEVENT
BEGIN:VEVENT
DTSTART;TZID=UTC:20260815T080000
DTEND;TZID=UTC:20260815T140000
DTSTAMP:20260422T212645
CREATED:20200302T000150Z
LAST-MODIFIED:20251113T155508Z
UID:10000570-1786780800-1786802400@carrollcountyagcenter.com
SUMMARY:Peach Festival at the Farmer's Market - Aug. 15th
DESCRIPTION:On Saturday\, August 15th\, the Carroll County Farmer’s Market is celebrating its 19th Peach Festival.  The Market will be open from 8:00am to 2:00pm this Saturday. \nLocal peaches\, peach sundaes\, peach scones\, peach cobblers\, peach pies\, peach cakes\, and other food items are offered for sale. \n50 vendors will participate with all local fresh fruits and vegetables\, farm raised eggs and meats\, nuts\, jams and jellies\, honey\, baked goods\, gourmet foods\, handmade crafts and plants. \nBreakfast and lunch are served.  Items include fresh made pancakes\, egg sandwiches and homemade slices of pie and cake. \nFor more information please call Anita Bullock – 410-848-7748 or e-mail at ccfm@comcast.net. \nwww.carrollcountyfarmersmarket.com
URL:https://carrollcountyagcenter.com/event/24th-annual-peach-festival-at-the-farmers-market/
LOCATION:Carroll County Agriculture Center – 1\, 700 Smith Ave.\, Westminster\, MD\, 21157\, United States
CATEGORIES:Farmers Market,Featured
ATTACH;FMTTYPE=image/jpeg:https://carrollcountyagcenter.com/wp-content/uploads/2020/03/peaches.jpg
ORGANIZER;CN="Carroll County Farmer's Market":MAILTO:ccfm@comcast.net
END:VEVENT
BEGIN:VEVENT
DTSTART;TZID=America/New_York:20260815T100000
DTEND;TZID=America/New_York:20260816T170000
DTSTAMP:20260422T212645
CREATED:20251113T155402Z
LAST-MODIFIED:20260305T143309Z
UID:10001060-1786788000-1786899600@carrollcountyagcenter.com
SUMMARY:Oakenmist Renaissance Faire - Aug. 15th & 16th
DESCRIPTION:Oakenmist Renaissance Faire \nSaturday\, August 15th – 10:00am – 6:00pm \nSunday\, August 16th – 10:00am – 5:00pm \nHear ye\, hear ye!\nWelcome to the Oakenmist Renaissance Faire\, complete with local demonstrations\, performances and a marketplace from the time of yore! \nWe are in a covered\, air-cooled facility – we shall proceed rain or shine!  If the weather is nice\, some of our activities and vendors may be outdoors. \nAt the moment\, we are planning for martial (fighting) exhibitions – in addition to FREE hands-on lessons in whip-cracking and using a sling as a weapon (yes\, that means you crack a whip and use a sling to hit a target)\, along with numerous educational troupes  (typically called “edutainers”) and period-appropriate denizens – Renaissance period dancing\, artisan exhibitors demonstrating skills such as illumination (calligraphy)\, embroidery and weaving\, gameplaying\, metalworking\, and music. \nThere are a number of performers scheduled\, including those from distant Renaissance events\, as well as those from our faire in previous years.  We welcome those who have never attended a Renaissance event as well as those who regularly attend events on the Eastern seaboard every year with attractions that differ from what is usually seen.  We have a focus on education\, local organizations and small businesses that you may not typically see. \nWe are hosting more than 70 vendors of handmade medieval products\, fortunetellers\, a bakery\, a meadery and many others! \nOnline Tickets go on sale Friday\, May 1st thru Aug. 14th at midnight. \nVisitors are encouraged to purchase tickets online at oakenmist.com to take advantage of early bird pricing and to avoid waiting in line at the gate. \nAdmission price: \nEarly Bird Adult single day general admission – $18.48 (online) \nEarly bird Adult weekend general admission – $33.63 (online) \nEarly Bird Family Day Pass – $33.63 (online) \nEarly Bird Royal VIP Weekend Pass – $71.00 (online) \nDay of event: Adults $25 for single day entry. \nChildren are included with an adult ticket at no addition charge. \nhttps://www.oakenmist.com \ninfo@oakenmist.com \n  \n  \n 
URL:https://carrollcountyagcenter.com/event/coming-soon-renaissance-festival-aug-15th-16th/
LOCATION:Carroll County Agriculture Center\, 706 Agriculture Dr.\, Westminster\, MD\, 21157\, United States
ATTACH;FMTTYPE=image/png:https://carrollcountyagcenter.com/wp-content/uploads/2025/11/Oakenmist-logo.png
ORGANIZER;CN="Oakenmist Rennaissnce Faire":MAILTO:info@oakenmist.com
END:VEVENT
BEGIN:VEVENT
DTSTART;TZID=UTC:20260822T080000
DTEND;TZID=UTC:20260822T130000
DTSTAMP:20260422T212645
CREATED:20200302T000503Z
LAST-MODIFIED:20251113T155629Z
UID:10000673-1787385600-1787403600@carrollcountyagcenter.com
SUMMARY:Heirloom Tomato Festival at the Farmer's Market - Aug. 22nd
DESCRIPTION:On Saturday\, August 22nd\, The Carroll County Farmer’s Market is celebrating Heirloom Tomatoes. Hours are 8am-1pm. \nTo be considered an heirloom tomato\, the plants must be open pollinated\, which means by the wind or insects\, and has existed for at least 50 years.  The Master Gardeners will provide information on how to grow heirloom tomatoes and have heirloom seeds for customers to take home and grow next year.  In addition to the fresh tomato tasting\, there will be a variety of dishes using the heirloom tomatoes available for sampling\, as well as recipe cards. \nMany varieties of tomatoes will be available to sample and compare: Green Tomatoes\, Black Tomatoes\, \nPink Tomatoes\, Red Tomatoes\, Yellow Tomatoes\, Striped Tomatoes. Lots of food dishes are on hand to taste as well as recipes cards to take home. This is a really great celebration of the many uses of tomatoes. The event is a must see for any tomato lover. Be sure to come early\, however\, because the samples ran out early last year. \nRegular market vendors will provide tomatoes for purchase\, including many heirlooms. All other local produce is also available\, as well as watermelons\, corn\,  farm fresh beef\, pork\, lamb\, and The Hen’s Nest farm fresh eggs. \nOur food stands provide home baked goods\, including cakes\, pies\, scones\, cookies\, breads\, rolls and biscotti. You will also find jams and jellies\, dips\, honey\, nuts\, and more. \nEach week the craft vendors provide an assortment of handmade crafts. Items available include seasonal decorations\, fabric crafts\, jewelry\, photography\, painted wood crafts\, pottery\, and more. \nThe Carroll County Farmers Market is located at: \nCarroll County Agriculture Center \n700 Agriculture Center Dr. \nWestminster\, MD 21157 \nThe Summer Market is open every Saturday through September 5th. \nHours are 8:00am – 1:00pm. \nParking and Admission are FREE. \nWe are handicapped accessible. \nBusses are welcome. \nFollow the signs to “Ag Center”. \nFor more info call Anita at 410-848-7748 or check out our website at \nwww.carrollcountyfamersmarket.com
URL:https://carrollcountyagcenter.com/event/heirloom-tomato-festival-at-the-farmers-market/
LOCATION:Carroll County Agriculture Center – 1\, 700 Smith Ave.\, Westminster\, MD\, 21157\, United States
ATTACH;FMTTYPE=image/jpeg:https://carrollcountyagcenter.com/wp-content/uploads/2020/03/heirloom-tomatoes-1.jpg
ORGANIZER;CN="Carroll County Farmer's Market":MAILTO:ccfm@comcast.net
END:VEVENT
BEGIN:VEVENT
DTSTART;TZID=America/New_York:20260822T080000
DTEND;TZID=America/New_York:20260822T130000
DTSTAMP:20260422T212645
CREATED:20250521T162156Z
LAST-MODIFIED:20251113T155740Z
UID:10001029-1787385600-1787403600@carrollcountyagcenter.com
SUMMARY:Master Gardeners Heirloom Tomato Festival
DESCRIPTION:Saturday Aug. 22\, 2026 – 8am – 1pm \nHosted by the University of Maryland Extension Master Gardener Program \n*Learn how to grow Heirloom Tomatoes and collect & save their seeds \n*Taste dozens of Heirloom varieties \n*Collect Tomato Recipes \n*Meet Miss Tomato \n*Guess how many Tomatoes are in the jar & win a prize! \n*See delicious Tomato Dishes on display \n*Learn how to control garden pests \nThis institution is an equal opportunity provider. \nIf you need special assistance to participate in this program\, contact: \nThe University of Maryland Extension Carroll County Office 410-386-2760 by Friday\, Aug. 1\, 2025 \n 
URL:https://carrollcountyagcenter.com/event/master-gardeners-heirloom-tomato-festival/
LOCATION:Carroll County Agriculture Center – 1\, 700 Smith Ave.\, Westminster\, MD\, 21157\, United States
ATTACH;FMTTYPE=image/png:https://carrollcountyagcenter.com/wp-content/uploads/2025/05/Tomato-Fest-logo-.png
END:VEVENT
BEGIN:VEVENT
DTSTART;TZID=UTC:20260829T080000
DTEND;TZID=UTC:20260829T130000
DTSTAMP:20260422T212645
CREATED:20200302T000907Z
LAST-MODIFIED:20251113T155845Z
UID:10000674-1787990400-1788008400@carrollcountyagcenter.com
SUMMARY:Farmer's Market will be open 8am - 1pm today.
DESCRIPTION:Saturday\, August 29th only 2 days left at the Carroll County Farmer’s Market.   Don’t miss out on another opportunity to buy fresh fruits and vegetables! \nThis week shoppers will be able to find cantaloupes\, melons\, apples\, peppers\, tomatoes\, potatoes\, watermelons\, corn\, farm fresh eggs\, farm raised beef\, pork\, and lamb. Customers should come early for the best selection. A large selection of fresh cut flowers will be available\, as well as locally grown garden mums. \nThere will be at least 40 stands selling a wide variety of merchandise.  Handmade fine arts and crafts vendors will also be here selling a wide variety of wares. Imports are not allowed.  The Master Gardeners will be on hand to answer your gardening questions. \nBreakfast and Lunch will be served. Pancake breakfast and egg sandwiches are popular breakfast items. Homemade slices of pie and cake are always great for dessert. \nThe Carroll County Farmer’s Market is held in Westminster\, Maryland at the Agriculture Center\, located on Smith Avenue adjacent to the Farm Museum.\nSummer Market runs every Saturday thru September 5th. \nThere is no admission and parking is free.\nWe are handicapped accessible.\nBusses are welcome. \nFollow the signs “To Ag Center”\nFor more info call ANITA at 410-848-7748 or check out the market’s web site at\nwww.carrollcountyfarmersmarket.com
URL:https://carrollcountyagcenter.com/event/back-to-school-days-at-the-farmers-market/
LOCATION:Carroll County Agriculture Center – 1\, 700 Smith Ave.\, Westminster\, MD\, 21157\, United States
ATTACH;FMTTYPE=image/jpeg:https://carrollcountyagcenter.com/wp-content/uploads/2018/01/Farmers-Market.jpg
ORGANIZER;CN="Carroll County Farmer's Market":MAILTO:ccfm@comcast.net
END:VEVENT
END:VCALENDAR