BEGIN:VCALENDAR
VERSION:2.0
PRODID:-//Carroll County Ag Center - ECPv6.7.0//NONSGML v1.0//EN
CALSCALE:GREGORIAN
METHOD:PUBLISH
X-WR-CALNAME:Carroll County Ag Center
X-ORIGINAL-URL:https://carrollcountyagcenter.com
X-WR-CALDESC:Events for Carroll County Ag Center
REFRESH-INTERVAL;VALUE=DURATION:PT1H
X-Robots-Tag:noindex
X-PUBLISHED-TTL:PT1H
BEGIN:VTIMEZONE
TZID:America/New_York
BEGIN:DAYLIGHT
TZOFFSETFROM:-0500
TZOFFSETTO:-0400
TZNAME:EDT
DTSTART:20260308T070000
END:DAYLIGHT
BEGIN:STANDARD
TZOFFSETFROM:-0400
TZOFFSETTO:-0500
TZNAME:EST
DTSTART:20261101T060000
END:STANDARD
TZID:UTC
BEGIN:STANDARD
TZOFFSETFROM:+0000
TZOFFSETTO:+0000
TZNAME:UTC
DTSTART:20260101T000000
END:STANDARD
END:VTIMEZONE
BEGIN:VEVENT
DTSTART;TZID=America/New_York:20260607T100000
DTEND;TZID=America/New_York:20260607T170000
DTSTAMP:20260422T182635
CREATED:20240503T153310Z
LAST-MODIFIED:20260106T175915Z
UID:10000961-1780826400-1780851600@carrollcountyagcenter.com
SUMMARY:Carroll County FOP Corn Hole Tournament - June 7th
DESCRIPTION:  \n \n \n$5\,000 PRIZE POT! (Subject to increase) \nCheck In – 10:00am \nBags Fly – 11:00am \nFood and Beverages will be available for purchase. \nThe purpose of this tournament is to fundraise for our officer assistance fund.  This fund is used to assist Carroll County Law enforcement officer’s in time of need such as injury\, natural disaster or wrongful prosecution. \nWe are looking for Sponsors: \n  \nFor Registration: \nSingles: $25 \nDoubles: $50 \nCompetitive Doubles \nSocial Doubles \nOpen Doubles \nCo-Ed Doubles \nWomen’s Singles \nThis Lodge is formed to support and defend the Constitution of the United States and of the State of Maryland: to promote a more professional\, personal\, and efficient cooperation among the law enforcement officers in the State of Maryland: to foster enforcement of the law and order\, to encourage social\, charitable\, and educational activities among all law enforcement officers; to advocate and strive for uniform application of civil service merit system for appointment and promotion; and to promote fraternalism and mutual aid among our members and the people we serve. \n  \n 
URL:https://carrollcountyagcenter.com/event/carroll-county-fop-corn-hole-tournament/
LOCATION:Carroll County Agriculture Center\, 706 Agriculture Dr.\, Westminster\, MD\, 21157\, United States
ATTACH;FMTTYPE=image/png:https://carrollcountyagcenter.com/wp-content/uploads/2024/05/fop.png
END:VEVENT
BEGIN:VEVENT
DTSTART;TZID=UTC:20260613T100000
DTEND;TZID=UTC:20260614T170000
DTSTAMP:20260422T182635
CREATED:20200430T182941Z
LAST-MODIFIED:20260319T135215Z
UID:10000688-1781344800-1781456400@carrollcountyagcenter.com
SUMMARY:Carroll County Celtic Festival - June 13th & June 14th
DESCRIPTION:  \n2026 – 4th Annual Carroll County Celtic Festival \nSaturday\, June 13\, 2026 – 10:00 am – 5:00 pm. \nSunday\, June 14\, 2026 – 10:00am – 5:00pm. \nAdvance Ticket Sales available until May 31st. \nhttps://www.carrollcountycelticfestival.com \nAdmission: \nChildren 7-15 – $15 in advance – $20 at the gate \nSeniors 65+ and over – $20 in advance – $25 at the gate. \nAdults  16-65 – $25 in advance – $30 at the gate \nChildren 7 and under are FREE. \nA Celebration of Celtic Life and Culture held in the heart of Carroll County\, Maryland. \nJoin us in experiencing the music\, food\, athletics\, dancers\, demonstrations and fun of all things Celtic. \nCheck out all the new things for this year! \nFor more information: www.carrollcountycelticfestival.com
URL:https://carrollcountyagcenter.com/event/carroll-county-celtic-festival/
LOCATION:Carroll County Agriculture Center\, 706 Agriculture Dr.\, Westminster\, MD\, 21157\, United States
CATEGORIES:Featured
ATTACH;FMTTYPE=image/jpeg:https://carrollcountyagcenter.com/wp-content/uploads/2020/04/2026-logo.jpg
ORGANIZER;CN="Nancy Worley":MAILTO:carrollcountycelticfestival@gmail.com
END:VEVENT
BEGIN:VEVENT
DTSTART;TZID=UTC:20260620T080000
DTEND;TZID=UTC:20260620T130000
DTSTAMP:20260422T182635
CREATED:20200301T223318Z
LAST-MODIFIED:20251113T153522Z
UID:10000554-1781942400-1781960400@carrollcountyagcenter.com
SUMMARY:Opening Day at the Summer Farmer's Market -  June 20th
DESCRIPTION:The Carroll County Farmer’s Market is Celebrating its 55th Year. \n \nOn Saturday\, June 20th \, the Carroll County Farmer’s Market will be celebrating its 55th season. \nThis week customers will be able to purchase locally grown produce featuring lettuce\, kale\, kohlrabi\, radishes\, spinach\, beets\, asparagus\, rhubarb\, Swiss chard\, spring onions\, broccoli\, cabbage\, and cauliflower.  There will also be farm raised beef\, pork\, lamb\, wine\, cheese\, honey\, and fresh eggs. \nOur food stands provide home baked goods\, including cakes\, pies\, scones\, cookies\, breads\, rolls and biscotti. You will also find jams and jellies\, nuts\, fresh eggs and more. We also have a stand selling heart healthy lean emu meat and other emu products. \nOur plant vendors will have hanging baskets\, container and patio pots\, herbs\, annuals\, perennials and fresh cut flowers. The Master Gardeners will also have a stand every week to help you with your gardening problems and answer your questions. \nEach week will offer an assortment of handmade crafts. Items available include seasonal decorations\, fabric crafts\, jewelry\, photography\, painted wood crafts and other great items. \nThe cafeteria is open during market hours for breakfast and lunch. Pancakes and egg sandwiches are great for breakfast and don’t miss out on a slice of homemade pie or cake. \nThe Carroll County Farmers Market is held in Westminster\, Maryland at the Agriculture Center\, located on Smith Avenue\, adjacent to the Farm Museum. \nHours for the Summer Market are from 8am-1pm. \nThe Summer Session of the Farmer’s Market runs every Saturday from June 20 to September 5th. \nThere is no admission and parking is free. \nWe are handicapped accessible. \nBusses are welcome. \nFollow the signs to “Ag Center”. \nFor more info call Anita at 410-848-7748 or check out our website at www.carrollcountyfarmersmarket.com
URL:https://carrollcountyagcenter.com/event/opening-day-at-the-summer-farmers-market/
LOCATION:Carroll County Agriculture Center – 1\, 700 Smith Ave.\, Westminster\, MD\, 21157\, United States
ATTACH;FMTTYPE=image/jpeg:https://carrollcountyagcenter.com/wp-content/uploads/2020/03/Farmers-Market-Guide_Cover.jpg
ORGANIZER;CN="Carroll County Farmer's Market":MAILTO:ccfm@comcast.net
END:VEVENT
BEGIN:VEVENT
DTSTART;TZID=UTC:20260627T080000
DTEND;TZID=UTC:20260627T130000
DTSTAMP:20260422T182635
CREATED:20200301T223930Z
LAST-MODIFIED:20251113T153627Z
UID:10000556-1782547200-1782565200@carrollcountyagcenter.com
SUMMARY:Quilt Day at the Farmer's Market - June 27th
DESCRIPTION:On Saturday June 27th the Carroll County Farmer’s Market will be holding its 13th annual Quilt Day.  The Farmer’s Market’s own vendors will be displaying antique and new quilts at their booth throughout the market.  Take a walk down memory lane and learn the history and story behind each quilt.  Every quilt displayed has its own unique story.  Barbara Myers from Everybody’s Quilt Guild in Westminster will be raffling off a quilt plus demonstrating hand and machine quilting along with piecing quilts.  The Master Gardeners will also have a stand every week to help you with your gardening problems and answer your questions. \nLocally grown produce this week consists of: asparagus\, lettuce\, rhubarb\, spinach\, strawberry’s\, sweet cherries\, raspberries\, blueberries\, beets\, yellow squash\, zucchini\, onions\, summer turnips\, kale\, Swiss chard\, and collards.  There will also be farm raised beef\, pork\, lamb\,  cheese\, and fresh eggs. \nOur food stands provide home baked goods\, including cakes\, pies\, scones\, cookies\, breads\, rolls and biscotti. You will also find jams and jellies\, honey\, nuts\, fresh eggs and more. We also have a stand selling heart healthy lean emu meat and other emu products. \nOur plant vendors will have hanging baskets\, container and patio pots\, herbs\, annuals\, perennials and fresh cut flowers. \nEach week will offer an assortment of handmade crafts. Items available include seasonal decorations\, fabric crafts\, jewelry\, photography\, painted wood crafts and other great items. \nThe cafeteria is open during market hours for breakfast and lunch. Pancakes and egg sandwiches are great for breakfast and don’t miss out on a slice of homemade pie or cake. \nFree parking and admission.\nInfo: Anita 410-848-7748\nwww.carrollcountyfarmersmarket.com\nLike us on facebook.
URL:https://carrollcountyagcenter.com/event/quilt-day-at-the-farmers-market/
LOCATION:Carroll County Agriculture Center – 1\, 700 Smith Ave.\, Westminster\, MD\, 21157\, United States
ATTACH;FMTTYPE=image/jpeg:https://carrollcountyagcenter.com/wp-content/uploads/2020/03/Quilt-Day.jpg
ORGANIZER;CN="Carroll County Farmer's Market":MAILTO:ccfm@comcast.net
END:VEVENT
BEGIN:VEVENT
DTSTART;TZID=America/New_York:20260627T093000
DTEND;TZID=America/New_York:20260627T130000
DTSTAMP:20260422T182635
CREATED:20250618T155940Z
LAST-MODIFIED:20251113T153728Z
UID:10001030-1782552600-1782565200@carrollcountyagcenter.com
SUMMARY:Free State Daylily Society Annual Bloom Show
DESCRIPTION:On Saturday\, June 27\, 2026\, the Free State Daylily Society (FSDS) will be holding its Annual Bloom Show at the Carrol County Agricultural Center (Blizzard Building).  This will be the first year for the FSDS bloom show at this location.  \nFSDS members will be displaying daylily blooms from their garden.  Bloom categories include mini\, small\, large\, extra-large\, double\, spider/unusual form\, arrangement\, and seedling.  Members will also be available to answer questions about the blooms and growing daylilies in our area.  \nThis is a great opportunity for the general public to see some beautiful daylilies that you will not see in the local garden centers and to make a wish list for possible future purchases at our August 2 sale at Mclean’s Nursery in Parkville\, MD and August 3 at Benson Hammond House in Linthicum Heights\, MD.  Of course\, we will be back at the Carroll County Ag Center in May 2026!  \n  \nThere will be some plants for sale at this event.  Cash only.  \nSome of last years’ winners.
URL:https://carrollcountyagcenter.com/event/free-state-daylily-society-annual-bloom-show/
LOCATION:Carroll County Agriculture Center – 1\, 700 Smith Ave.\, Westminster\, MD\, 21157\, United States
ATTACH;FMTTYPE=image/jpeg:https://carrollcountyagcenter.com/wp-content/uploads/2025/06/lily-razor-beast.jpg
END:VEVENT
END:VCALENDAR