BEGIN:VCALENDAR
VERSION:2.0
PRODID:-//Carroll County Ag Center - ECPv6.7.0//NONSGML v1.0//EN
CALSCALE:GREGORIAN
METHOD:PUBLISH
X-WR-CALNAME:Carroll County Ag Center
X-ORIGINAL-URL:https://carrollcountyagcenter.com
X-WR-CALDESC:Events for Carroll County Ag Center
REFRESH-INTERVAL;VALUE=DURATION:PT1H
X-Robots-Tag:noindex
X-PUBLISHED-TTL:PT1H
BEGIN:VTIMEZONE
TZID:UTC
BEGIN:STANDARD
TZOFFSETFROM:+0000
TZOFFSETTO:+0000
TZNAME:UTC
DTSTART:20260101T000000
END:STANDARD
TZID:America/New_York
BEGIN:DAYLIGHT
TZOFFSETFROM:-0500
TZOFFSETTO:-0400
TZNAME:EDT
DTSTART:20260308T070000
END:DAYLIGHT
BEGIN:STANDARD
TZOFFSETFROM:-0400
TZOFFSETTO:-0500
TZNAME:EST
DTSTART:20261101T060000
END:STANDARD
TZID:UTC
BEGIN:STANDARD
TZOFFSETFROM:+0000
TZOFFSETTO:+0000
TZNAME:UTC
DTSTART:20260101T000000
END:STANDARD
END:VTIMEZONE
BEGIN:VEVENT
DTSTART;TZID=UTC:20260502T070000
DTEND;TZID=UTC:20260502T140000
DTSTAMP:20260422T165910
CREATED:20200103T222426Z
LAST-MODIFIED:20260415T164605Z
UID:10000641-1777705200-1777730400@carrollcountyagcenter.com
SUMMARY:Mid-Atlantic Disaster Response Auction - May 2nd
DESCRIPTION:DONATIONS ACEPTED AND NEEDED!    Click here for a list of: Acceptable Donations \nSince 1981\, the first Saturday in May has marked the annual Mid-Atlantic Disaster Response Auction. There is no admission charged for this annual event that is open to the public and features three auctions\, plants\, crafts\, food and baked goods\, books\, and white elephant table. \n7-9:30am Breakfast\n9am  Auction: tools\, lawn and garden\, household and general items\n9:30am Special Items Auction: including antiques and collectibles\, art and jewelry\n10am Food booths open; child care available 10am-2pm\n10:30am Lunch\n12pm Quilt and Comforter Auction \nTerms: cash\, check\, or credit card; ATM machine located in the Shipley Arena \nYour purchase has purpose. Auction proceeds go to the Church of the Brethren Emergency Disaster Response Fund to send trained volunteers to help disaster victims with child care and to repair and rebuild after natural disasters that occur within the United States. Overseas relief includes food\, water\, shelter and medicine. For more information call 443-960-3052.
URL:https://carrollcountyagcenter.com/event/mid-atlantic-disaster-response-auction/
LOCATION:Carroll County Agriculture Center\, 706 Agriculture Dr.\, Westminster\, MD\, 21157\, United States
ATTACH;FMTTYPE=image/jpeg:https://carrollcountyagcenter.com/wp-content/uploads/2020/01/quilt-mad-auction-fundraiser.jpg
END:VEVENT
BEGIN:VEVENT
DTSTART;TZID=UTC:20260509T080000
DTEND;TZID=UTC:20260509T140000
DTSTAMP:20260422T165910
CREATED:20200114T004558Z
LAST-MODIFIED:20251113T152236Z
UID:10000651-1778313600-1778335200@carrollcountyagcenter.com
SUMMARY:May 9th - Carroll County Farmer's Market - Mother's Day Show
DESCRIPTION:The Carroll County Farmers Market is holding its Mother’s Day Show on May 9th; hours are 8:00am – 2:00pm. The market is all indoors with 60 vendors and a free giveaway of a flowering plant to the first 500 moms to arrive. \nThe Mason-Dixon Chapter of the American Rhododendron Society will be joining the Farmer’s Market this year for Mother’s Day. There will be a whole room dedicated to educating customers about the many different kinds of rhododendrons there are and how to plant and take care of them. Rhododendrons and Azaleas will be available for purchase. \nThere will be many beautiful hanging baskets\, potted plants\, spring garden plants\, herbs\, and flowering plants available for Mother’s Day gifts. Our producer only market offers Handmade Crafts\, Fine Arts\, Homemade Baked Goods\, Gourmet Food Items\, Candy\, Fresh Local Eggs and Pasture Raised Meat\, wine and cheese. \nBreakfast and Lunch are served all day. Pancake breakfast and egg sandwiches are popular breakfast items. Homemade slices of pie and cake are always great for dessert. \nThe Carroll County Farmers Market is held in Westminster\, Maryland at the Agriculture Center\, located off of Smith Avenue\, adjacent to the Farm Museum. \nAdmission and Parking are free\nWe are handicapped accessible.\nBusses are welcome. \nFollow signs “to Ag Center”.\nFor more info call ANITA at 410-848-7748 or check out the market’s web site at\nwww.carrollcountyfarmersmarket.com
URL:https://carrollcountyagcenter.com/event/5535/
LOCATION:Carroll County Agriculture Center – 1\, 700 Smith Ave.\, Westminster\, MD\, 21157\, United States
ATTACH;FMTTYPE=image/jpeg:https://carrollcountyagcenter.com/wp-content/uploads/2020/01/Mothers-Day-Show.jpg
ORGANIZER;CN="Carroll County Farmer's Market":MAILTO:ccfm@comcast.net
END:VEVENT
BEGIN:VEVENT
DTSTART;TZID=UTC:20260509T080000
DTEND;TZID=UTC:20260509T140000
DTSTAMP:20260422T165910
CREATED:20200209T064813Z
LAST-MODIFIED:20251113T152401Z
UID:10000663-1778313600-1778335200@carrollcountyagcenter.com
SUMMARY:May 9th - Mason Dixon Rhododendron Society Show and Sale
DESCRIPTION:Will be a part of the Carroll County Farmer’s Market this year. \nLike many of the chapters of the American Rhododendron Society\, the Mason-Dixon Chapter holds a flower show every spring\, highlighting the azaleas and rhododendrons that are blooming at the time. Due to the mysteries of Mother Nature\, the display varies from year to year\, changing if the season is early\, average or late. \nIn 2025\, the show will again be in Westminster\, Maryland\, on May 9th. It will be held at the Carroll County Agricultural Center in conjunction with the Carroll County Farmers’ Market. We will be open from 8:00 AM until 2:00 PM. \nThe highlight of the event will be the chapter’s annual truss show\, featuring flowers from many different varieties of rhododendrons and azaleas. In addition to ribbons\, a number of prizes will be awarded to the top entries\, including the “People’s Choice Award\,” decided by the popular vote of all attendees. \nExpert advice and educational materials will be available at both shows\, and rhododendrons\, azaleas\, and numerous companion plants\, such as hostas\, hollies\, and numerous perennials\, will be offered for sale by the chapter and selected vendors. And of course\, we will have our ever-popular club table where you will find all sorts of interesting items. There should be a number of native plants available as well. \nFor more information please contact me by email at reidhj@aol.com or visit our website at http://www.mdrhododendron.org/.
URL:https://carrollcountyagcenter.com/event/mason-dixon-rhododendron-society-show-and-sale/
LOCATION:Carroll County Agriculture Center – 1\, 700 Smith Ave.\, Westminster\, MD\, 21157\, United States
ATTACH;FMTTYPE=image/jpeg:https://carrollcountyagcenter.com/wp-content/uploads/2020/02/rhododendron-with-vase.jpg
ORGANIZER;CN="Mason Dixon Rhododendron Society":MAILTO:reidhj@aol.com
END:VEVENT
BEGIN:VEVENT
DTSTART;TZID=America/New_York:20260509T080000
DTEND;TZID=America/New_York:20260509T140000
DTSTAMP:20260422T165910
CREATED:20250210T194521Z
LAST-MODIFIED:20260402T160755Z
UID:10001020-1778313600-1778335200@carrollcountyagcenter.com
SUMMARY:Free State Daylily Society Sale at the Carroll County Farmer's Market
DESCRIPTION:  \n       \nOn Saturday\, May 9\, 2026\, the Free State Daylily Society (FSDS) will be offering for sale over 75 different varieties of daylilies at the Carroll County Agricultural Center in conjunction with the Mason Dixon Rhododendron Society. This will be our second year at the Carroll County Farmer’s Market\, following a very successful sale last spring. \nWith over 75 different daylilies in all colors and sizes for just $5 a double fan\, you won’t find this variety of cultivars anywhere in Maryland at this price. Our plants are bare root and ready to be planted when you take them home. FSDS club members will be there to answer all your questions about growing daylilies and help you select plants for you to buy. There will be color pictures and descriptions of every daylily for sale. At the price of $5/double fan\, you will want several! If you compare our prices to retail nurseries and garden centers or online daylily sellers\, you will find that many of our plants retail for $15 or more. \nWe will also have other potted companion plants for purchase such as irises\, coneflowers\, hosta and Japanese forest grass. All plants have been donated by FSDS members and are all $5 per container. \nThis sale is Mother’s Day weekend\, the perfect time to select some quality plants for mom’s garden or your own. Come by between 8 :00 am and 2 pm (or until sold out) to check out our selection\, but be aware that some cultivars sell out fast. There will be information available on how to grow daylilies\, how to select plants and about FSDS\, for those interested in joining the club. \nCome look for us sharing space with the Mason Dixon Rhododendron Society Show and Sale. \nAll sales will be cash only. Proceeds will support FSDS projects and programs throughout the year.
URL:https://carrollcountyagcenter.com/event/free-state-daylily-show-at-the-carroll-county-farmers/
LOCATION:Carroll County Agriculture Center – 1\, 700 Smith Ave.\, Westminster\, MD\, 21157\, United States
ATTACH;FMTTYPE=image/jpeg:https://carrollcountyagcenter.com/wp-content/uploads/2025/02/Ruby-Spider-e1740161272524.jpeg
END:VEVENT
BEGIN:VEVENT
DTSTART;TZID=UTC:20260516T080000
DTEND;TZID=UTC:20260516T120000
DTSTAMP:20260422T165910
CREATED:20220421T065644Z
LAST-MODIFIED:20251113T152616Z
UID:10000855-1778918400-1778932800@carrollcountyagcenter.com
SUMMARY:May 16th - Master Gardener Plant Sale
DESCRIPTION:The University of Maryland – Carroll County Master Gardener’s are having a Plant Sale and Garden Flea Market. \nSaturday\, May 16th – 8am – 12pm \nCash and Checks only! \nLocated in the Burn’s Hall and Pavilion @ 700 Smith Ave. Westminster\, MD 21157. \nPlants are grown by the Master Gardeners and sold at reasonable prices & will help transport plants to your car! \nOffering:  \nPerennials\, Annuals & Herbs \nHeirloom tomato & veggie plants \nNative trees and shrubs \nGarden Flea Market items \nBring boxes for your purchases\, we may not have enough! \nHave a gardening question – Ask a Master Gardener at the Plant Sale! \nFor more information please call the Maryland Extension Office – 410-386-2760. \n  \n 
URL:https://carrollcountyagcenter.com/event/9541/
LOCATION:Carroll County Agriculture Center – 1\, 700 Smith Ave.\, Westminster\, MD\, 21157\, United States
ATTACH;FMTTYPE=image/jpeg:https://carrollcountyagcenter.com/wp-content/uploads/2022/04/Plant-Sale.jpg
END:VEVENT
BEGIN:VEVENT
DTSTART;TZID=America/New_York:20260522T080000
DTEND;TZID=America/New_York:20260523T170000
DTSTAMP:20260422T165910
CREATED:20260107T000332Z
LAST-MODIFIED:20260107T000747Z
UID:10001072-1779436800-1779555600@carrollcountyagcenter.com
SUMMARY:Coming Soon!  Gammill Quilt Classes and Seminar - 22nd & 23rd
DESCRIPTION:
URL:https://carrollcountyagcenter.com/event/coming-soon-gammill-quilt-seminar-22nd-23rd/
LOCATION:MD
ATTACH;FMTTYPE=image/png:https://carrollcountyagcenter.com/wp-content/uploads/2026/01/gammill-machine.png
END:VEVENT
BEGIN:VEVENT
DTSTART;TZID=UTC:20260523T070000
DTEND;TZID=UTC:20260523T170000
DTSTAMP:20260422T165910
CREATED:20240105T135753Z
LAST-MODIFIED:20251113T152721Z
UID:10000809-1779519600-1779555600@carrollcountyagcenter.com
SUMMARY:Maryland Mayhem Car Show - May 23rd
DESCRIPTION:  \n \nIt’s been a long time coming but here it is\, but like I said we would be back. This year I’m looking to make it bigger and better\, with more trophy’s for you to have a chance at. We will have a new venue with more space for all. This year we have decided to offer shirts that will have some amazing art work on them.\nA portion of the proceeds will go to\nMCQE Mobile Pet Pantry out of Hampstead Maryland. Bring some Pet food or treats for a chance at the participation trophy. \n  \nFor more information please contact Patrick Brooks – 240-304-8108
URL:https://carrollcountyagcenter.com/event/maryland-mayhem-car-show-may-25th/
LOCATION:Carroll County Agriculture Center – 1\, 700 Smith Ave.\, Westminster\, MD\, 21157\, United States
ATTACH;FMTTYPE=image/jpeg:https://carrollcountyagcenter.com/wp-content/uploads/2024/01/MD-Mayhem.jpg
ORGANIZER;CN="Maryland Mayhem Car Show":MAILTO:stripteds10@gmail.com
END:VEVENT
BEGIN:VEVENT
DTSTART;TZID=UTC:20260529T070000
DTEND;TZID=UTC:20260530T140000
DTSTAMP:20260422T165910
CREATED:20210426T113130Z
LAST-MODIFIED:20251113T152932Z
UID:10000792-1780038000-1780149600@carrollcountyagcenter.com
SUMMARY:May 29th - Farrier Certification
DESCRIPTION:Farrier Certification: May 29th & May 30th \n  \nContact Liam Straton for more information: 410-913-3824
URL:https://carrollcountyagcenter.com/event/farrier-certification/
LOCATION:Carroll County Agriculture Center – 1\, 700 Smith Ave.\, Westminster\, MD\, 21157\, United States
ATTACH;FMTTYPE=image/jpeg:https://carrollcountyagcenter.com/wp-content/uploads/2020/01/farriers.jpg
END:VEVENT
BEGIN:VEVENT
DTSTART;TZID=UTC:20260530T070000
DTEND;TZID=UTC:20260530T170000
DTSTAMP:20260422T165910
CREATED:20210426T112911Z
LAST-MODIFIED:20251113T153041Z
UID:10000791-1780124400-1780160400@carrollcountyagcenter.com
SUMMARY:May 30th - Farrier Certification Event
DESCRIPTION:Farrier Certification – May 29th & May 30th \nContact: Liam Straton – 410-913-3824
URL:https://carrollcountyagcenter.com/event/farrier-certification-event/
LOCATION:Carroll County Agriculture Center\, 706 Agriculture Dr.\, Westminster\, MD\, 21157\, United States
ATTACH;FMTTYPE=image/jpeg:https://carrollcountyagcenter.com/wp-content/uploads/2020/01/farriers.jpg
END:VEVENT
BEGIN:VEVENT
DTSTART;TZID=America/New_York:20260530T080000
DTEND;TZID=America/New_York:20260530T150000
DTSTAMP:20260422T165910
CREATED:20240517T183845Z
LAST-MODIFIED:20260107T001035Z
UID:10000962-1780128000-1780153200@carrollcountyagcenter.com
SUMMARY:Live Hope Laugh Annual Flea Market - May 30th
DESCRIPTION:Same Flea Market – New Location – \nLive Hope Laugh Flea Market has moved from the Reese Carnival Grounds to the Carroll County  AG. Center’s grass area below the new parking lot.  There will be 150 vendors outside from 8am – 3pm.  Concessions provided. \nOur flea market is a vibrant marketplace where you can explore a world of vintage items\, antiques\, handmade crafts\, and so much more! \nVendor’s needed! – 15X15 spaces $30.00 \nFor more information please contact: Carolyn Ross – livehopelaugh2010@yahoo.com
URL:https://carrollcountyagcenter.com/event/live-hope-laughs-annual-flea-market-june-15th/
LOCATION:Carroll County Agriculture Center – 1\, 700 Smith Ave.\, Westminster\, MD\, 21157\, United States
ATTACH;FMTTYPE=image/jpeg:https://carrollcountyagcenter.com/wp-content/uploads/2024/05/flea-market-banner.jpg
ORGANIZER;CN="Live Hope Laugh's":MAILTO:livehopelaugh2010@yahoo.com
END:VEVENT
BEGIN:VEVENT
DTSTART;TZID=America/New_York:20260531T173000
DTEND;TZID=America/New_York:20260531T220000
DTSTAMP:20260422T165910
CREATED:20260304T181145Z
LAST-MODIFIED:20260304T181405Z
UID:10001075-1780248600-1780264800@carrollcountyagcenter.com
SUMMARY:Sam's Creek 4-H Club Bingo - May 31st
DESCRIPTION:More information to come soon!
URL:https://carrollcountyagcenter.com/event/sams-creek-4-h-club-bingo-may-31st/
LOCATION:Carroll County Agriculture Center – 1\, 700 Smith Ave.\, Westminster\, MD\, 21157\, United States
ATTACH;FMTTYPE=image/png:https://carrollcountyagcenter.com/wp-content/uploads/2026/03/4-H-clover.png
END:VEVENT
END:VCALENDAR