BEGIN:VCALENDAR
VERSION:2.0
PRODID:-//Carroll County Ag Center - ECPv6.7.0//NONSGML v1.0//EN
CALSCALE:GREGORIAN
METHOD:PUBLISH
X-ORIGINAL-URL:https://carrollcountyagcenter.com
X-WR-CALDESC:Events for Carroll County Ag Center
REFRESH-INTERVAL;VALUE=DURATION:PT1H
X-Robots-Tag:noindex
X-PUBLISHED-TTL:PT1H
BEGIN:VTIMEZONE
TZID:America/New_York
BEGIN:DAYLIGHT
TZOFFSETFROM:-0500
TZOFFSETTO:-0400
TZNAME:EDT
DTSTART:20260308T070000
END:DAYLIGHT
BEGIN:STANDARD
TZOFFSETFROM:-0400
TZOFFSETTO:-0500
TZNAME:EST
DTSTART:20261101T060000
END:STANDARD
TZID:UTC
BEGIN:STANDARD
TZOFFSETFROM:+0000
TZOFFSETTO:+0000
TZNAME:UTC
DTSTART:20260101T000000
END:STANDARD
TZID:UTC
BEGIN:STANDARD
TZOFFSETFROM:+0000
TZOFFSETTO:+0000
TZNAME:UTC
DTSTART:20260101T000000
END:STANDARD
END:VTIMEZONE
BEGIN:VEVENT
DTSTART;TZID=America/New_York:20260228T080000
DTEND;TZID=America/New_York:20260301T170000
DTSTAMP:20260422T152500
CREATED:20260224T173458Z
LAST-MODIFIED:20260224T173458Z
UID:10001074-1772265600-1772384400@carrollcountyagcenter.com
SUMMARY:Maryland Cornhole Competition
DESCRIPTION:MCO REGIONAL 2 DAY EVENT! \nFebruary 28th\, 2026  – March 1st\, 2026 \nBLIND DRAWS \n2 Divisions: Tiers 1 and 2 / Tiers 3 – 5 \nDoors Open at 8am – Bags Fly at 9am \nDOUBLES: \nAll 5 Tiers will be offered! Need at least 6 teams to run a tier\, will be combined with next tier up if need \nSTARTS AT COMPLETION OF BLIND DRAW NO LATER THAN 12 PM. \nSINGLES: \nAll 5 tiers will be offered! Need at least 6 teams to run a tier\, will be combined with next tier up if need be! \nSTARTS AT COMPLETION OF DOUBLES NO LATER THAN 3 PM. \n\nRegistrations are open for a fun ACL Regional weekend at the end of the month! Please note the venue change since SoFive was unavailable!\n\n\nWe will be doing a test run at the Carroll Country Ag Center in Westminster\, Md! The best part with this venue is it is BYOB!\n\n\nSaturday the 28th\nhttps://app.iplayacl.com/reg…/event-pre-reg-form/10632\n\n\nSunday the 1st\nhttps://app.iplayacl.com/reg…/event-pre-reg-form/10633
URL:https://carrollcountyagcenter.com/event/maryland-cornhole-competition/
LOCATION:Carroll County Agriculture Center – 1\, 700 Smith Ave.\, Westminster\, MD\, 21157\, United States
ATTACH;FMTTYPE=image/png:https://carrollcountyagcenter.com/wp-content/uploads/2026/02/cornhole-logo.png
ORGANIZER;CN="Maryland Cornhole Organization":MAILTO:ryan@marylandcornhole.net
END:VEVENT
BEGIN:VEVENT
DTSTART;TZID=UTC:20260307T080000
DTEND;TZID=UTC:20260307T140000
DTSTAMP:20260422T152500
CREATED:20200114T002325Z
LAST-MODIFIED:20260303T151329Z
UID:10000647-1772870400-1772892000@carrollcountyagcenter.com
SUMMARY:March 7th - Carroll County Farmer's Market - Spring Fling
DESCRIPTION:  \nOn Saturday\, March 7th the Carroll County Farmer’s Market will hold its Spring Fling Show featuring Plants\, Plants\, and more Plants. Our plant vendors will be here selling spring perennials\, annuals\, herb plants\, tomato plants\, early lettuce\, broccoli\, cauliflower\, red\, yellow\, and white onion sets\, as well as house plants.  Everything you need to start planting your garden.  The hours are 8am-2pm. There will be a free drawing for a gardening basket full of gardening items to use. \nThere will be between 75 vendors participating in this show.  Among the handmade crafts and fine arts available are handbags\, jewelry\, and pottery\, painted wood crafts\, soaps\, baskets\, and so much more. \nOur food stands provide home baked goods\, including cakes\, pies\, scones\, cookies\, breads\, rolls and biscotti. You will also find jams and jellies\, candy\, honey\, nuts\, dip mixes\, fresh eggs\, emu products; farm raised beef\, pork\, and lamb\, cheese\, wine\, and much more. \nThe cafeteria is open during market hours for breakfast and lunch. Pancakes and egg sandwiches are great for breakfast and don’t miss out on a slice of homemade pie or cake. \nCarroll County Farmer’s Market \n700 Agriculture Dr. \nWestminster\, MD 21157 \nAdmission and Parking are free. \nWe are handicapped accessible. \nBusses are welcome. \nFollow the signs to “Ag Center”. \nFor more info call Anita at 410-848-7748 or check out our website at \nwww.carrollcountyfarmersmarket.com
URL:https://carrollcountyagcenter.com/event/carroll-county-farmers-market-spring-fling/
LOCATION:Carroll County Agriculture Center – 1\, 700 Smith Ave.\, Westminster\, MD\, 21157\, United States
ATTACH;FMTTYPE=image/jpeg:https://carrollcountyagcenter.com/wp-content/uploads/2020/01/Spring-Fling.jpg
ORGANIZER;CN="Carroll County Farmer's Market":MAILTO:ccfm@comcast.net
END:VEVENT
BEGIN:VEVENT
DTSTART;TZID=America/New_York:20260307T170000
DTEND;TZID=America/New_York:20260307T220000
DTSTAMP:20260422T152500
CREATED:20241226T181334Z
LAST-MODIFIED:20251113T145235Z
UID:10001018-1772902800-1772920800@carrollcountyagcenter.com
SUMMARY:March 7\, 2026 - IBR Bull Riding Finals - is inside
DESCRIPTION:Bullriding Hosted by the International Bull Riders – \nLocated inside the CARROLL COUNTY AG-CENTER  SHIPLEY ARENA\n(706 Agriculture Center Drive\, Westminster\, MD 21157) \nTICKETS SOLD AT THE DOOR ONLY! \n“Bullriding” presented by the International Bull Riders. Back for two Saturday nights this February 28th and March 7th! Watch as the top bullriders battle for final standings. Located indoors\, at the Carroll County Ag. Center in Westminster\, MD. Doors open at 5pm\, and the show starts at 7pm. Admission is $25 for adults\, $15 for children 3 – 12 and under 3 are FREE. Bring your children out for the Little Wranglers Rodeo prior to the start of the show. Food\, drink and bleacher seating available (bring blankets)! Get there early\, seating is first come first served! Cash Sales Only\, ATM is available. No alcohol allowed! \nGo to www.GoIBR.com or call 301-748-0617 for more information! \nFor information on being a sponsor at this event or vendor spaces email rrensor@comcast.net or call 301-748-061
URL:https://carrollcountyagcenter.com/event/march-1-2025-ibr-bull-riding-finals-is-inside/
LOCATION:MD
ATTACH;FMTTYPE=image/jpeg:https://carrollcountyagcenter.com/wp-content/uploads/2018/08/bullriding-pic.jpg
END:VEVENT
BEGIN:VEVENT
DTSTART;TZID=UTC:20260308T080000
DTEND;TZID=UTC:20260308T170000
DTSTAMP:20260422T152500
CREATED:20251113T161959Z
LAST-MODIFIED:20251113T161959Z
UID:10001063-1772956800-1772989200@carrollcountyagcenter.com
SUMMARY:Carroll County Rabbit & Cavy Breeders Association - Mar. 8th
DESCRIPTION:OPEN & YOUTH DOUBLE FALL SHOW \nDistrict 2 Netherland Dwarf Club – Open Specialty \nChesapeake Holland Lop Club – Open & Youth Specialty \nMid-Atlantic Polish Club – Open Specialty \nMid-Atlantic Mini Lop Club – Open Specialty \nMajestic Mini Rex Club – Open Specialty \nMid-Atlantic Lop club (English/French) – Open Specialty \nPlease email CCRCBA@yahoo.com for Registration and fees. \nBreakfast and Lunch will be served – Open at 7am \nAll breeders club information can be found on the www.arba.net website. \n  \n 
URL:https://carrollcountyagcenter.com/event/carroll-county-rabbit-cavy-breeders-association-mar-8th/
LOCATION:Carroll County Agriculture Center – 1\, 700 Smith Ave.\, Westminster\, MD\, 21157\, United States
ATTACH;FMTTYPE=image/jpeg:https://carrollcountyagcenter.com/wp-content/uploads/2020/07/Rabbits.jpg
ORGANIZER;CN="Carroll County Rabbit & Cavy Breeders Assoc.":MAILTO:CCRCBA@yahoo.com
END:VEVENT
BEGIN:VEVENT
DTSTART;TZID=UTC:20260313T160000
DTEND;TZID=UTC:20260314T193000
DTSTAMP:20260422T152500
CREATED:20200103T201206Z
LAST-MODIFIED:20251113T145612Z
UID:10000521-1773417600-1773516600@carrollcountyagcenter.com
SUMMARY:March 13th & 14th - NASP - Archery Tournament
DESCRIPTION:Important Dates  (Registration Times are Eastern Time Zone) \nPreregistration Period: 12/2/2025 12:01:00 AM – 1/1/2026 11:59:00 PM\nNormal Registration (Flight Selection) Period: 1/2/2026 5:00:00 PM – 2/18/2026 5:00:00 PM\nDrop By Date: 2/17/2026 5:00:00 PM (Archers/Flight Positions Cannot Be Reduced After This Date/Time)\nTournament Dates: 3/13/2026-3/14/2026\n\n Registration Dates Explained\nOther Information \nEntry Fee: $25.00 Per Archer\n\n  \n\nContact Info:\n\n 
URL:https://carrollcountyagcenter.com/event/nasp-tournament/
LOCATION:Carroll County Agriculture Center\, 706 Agriculture Dr.\, Westminster\, MD\, 21157\, United States
ATTACH;FMTTYPE=image/jpeg:https://carrollcountyagcenter.com/wp-content/uploads/2020/01/NASP.jpg
ORGANIZER;CN="National Archery in the Schools Program":MAILTO:lou@naspschools.org
END:VEVENT
BEGIN:VEVENT
DTSTART;TZID=UTC:20260314T090000
DTEND;TZID=UTC:20260314T170000
DTSTAMP:20260422T152500
CREATED:20200103T201320Z
LAST-MODIFIED:20251113T145935Z
UID:10000522-1773478800-1773507600@carrollcountyagcenter.com
SUMMARY:March 14th - NASP Archery Tournament
DESCRIPTION:Important Dates  (Registration Times are Eastern Time Zone) \nPreregistration Period: 12/2/2025 12:01:00 AM – 1/1/2026 11:59:00 PM\nNormal Registration (Flight Selection) Period: 1/2/2026 5:00:00 PM – 2/18/2026 5:00:00 PM\nDrop By Date: 2/17/2026 5:00:00 PM (Archers/Flight Positions Cannot Be Reduced After This Date/Time)\nTournament Dates: 3/13/2026-3/14/2026\n\n Registration Dates Explained\nOther Information \nEntry Fee: $25.00 Per Archer\n\n  \n\nContact Info:\n\n 
URL:https://carrollcountyagcenter.com/event/nasp-archery-tournament/
LOCATION:Carroll County Agriculture Center\, 706 Agriculture Dr.\, Westminster\, MD\, 21157\, United States
ATTACH;FMTTYPE=image/jpeg:https://carrollcountyagcenter.com/wp-content/uploads/2020/01/NASP.jpg
ORGANIZER;CN="National Archery in the Schools Program":MAILTO:lou@naspschools.org
END:VEVENT
BEGIN:VEVENT
DTSTART;TZID=UTC:20260314T110000
DTEND;TZID=UTC:20260314T150000
DTSTAMP:20260422T152500
CREATED:20220329T064805Z
LAST-MODIFIED:20251113T150438Z
UID:10000851-1773486000-1773500400@carrollcountyagcenter.com
SUMMARY:March 14th - H & M Swine Genetics Presents Annual Show Pig Sale!!!
DESCRIPTION:Located in the Red Buildings at the Carroll County Ag. Center \nPreview starts @ 11:00am \nLunch provided @ 12:00pm \nSale Starts @ 1:00pm !!! \nOffering 60+ early January – early February show pigs. \nIncluding Crossbreds and Registered Yorkshires. \nFor additional info\, please find us on facebook @ H&M Swine Genetics \nAny Questions\, contact: Stanley Miller @ 443-415-8932 \nMarc Hereth @ 301-580-5977 \nATM is on the premises.
URL:https://carrollcountyagcenter.com/event/h-m-swine-genetics-presents-annual-show-pig-sale/
LOCATION:Carroll County Agriculture Center – 1\, 700 Smith Ave.\, Westminster\, MD\, 21157\, United States
ATTACH;FMTTYPE=image/webp:https://carrollcountyagcenter.com/wp-content/uploads/2022/03/piggys.webp
END:VEVENT
BEGIN:VEVENT
DTSTART;TZID=UTC:20260315T070000
DTEND;TZID=UTC:20260315T160000
DTSTAMP:20260422T152500
CREATED:20211021T124912Z
LAST-MODIFIED:20251113T150139Z
UID:10000692-1773558000-1773590400@carrollcountyagcenter.com
SUMMARY:March 15th - DOTC-AKC Obedience & Rally Trials
DESCRIPTION:Show day & times:  \nSunday\, March 15\, 2026 – Show opens – 7:00 am – 4:00 pm \n\nWe are hosting our 88th Annual Obedience Trial and 26th Annual Rally Trials on Sunday\, March 15\, 2026.\nWe are looking for sponsors for our keepsake program as well as vendors to participate at the show.\nVendor spaces: 10 x 10 space = $40\nAds in the program are as follows:\nBest of Breed – $65.00: full page ad in keepsake catalog\, name listed on sponsor board\, promotional items/brochure in bags to each attendee.\nAdditional Options: \n– 1/2 page ad – $50.00\n– business card size ad – $25\n– patron ad – $5.00 (up to 48 characters)\n– memorial page message – $5.00 (up to 48 characters)\n\nDOTC is a community based club of dog owners interested in training\, socializing and showing their dogs in Obedience\, Conformation\, Rally and much more… \nFor more information please email: Renee – sunnynaynay@yahoo.com \nJanet: gbert14@yahoo.com \n 
URL:https://carrollcountyagcenter.com/event/dotc-dog-qualifications/
LOCATION:Carroll County Agriculture Center\, 706 Agriculture Dr.\, Westminster\, MD\, 21157\, United States
ATTACH;FMTTYPE=image/jpeg:https://carrollcountyagcenter.com/wp-content/uploads/2021/10/DOTC-Dog-Show.jpg
ORGANIZER;CN="Dog Owner Training Club":MAILTO:gail.m.phillips@comcast.net
END:VEVENT
BEGIN:VEVENT
DTSTART;TZID=UTC:20260321T070000
DTEND;TZID=UTC:20260322T170000
DTSTAMP:20260422T152500
CREATED:20201013T213929Z
LAST-MODIFIED:20251113T151026Z
UID:10000604-1774076400-1774198800@carrollcountyagcenter.com
SUMMARY:AKC Scentwork Trials - Mar. 21st & 22nd
DESCRIPTION:German Shepherd Dog Club of Greater Washington D.C. \nAKC Scentwork Trial \nContainer and Buried Searches \nNovice\, Advanced and Excellent Levels \nDogs of all age participate. \nDeborah Malone\nEmeraldoaks German Shepherds\n18823 Falls Road\nHampstead\, Maryland 21074\n443-789-3464 \nEmeraldoaks@comcast.net \nWWW.Emeraldoaksgsd.com  \nAKC Canine Good Citizen (CGC) & Trick Dog Evaluator \nAKC Farm Dog Judge \nAKC Temperament Test Evaluator \nAKC FIT Instructor
URL:https://carrollcountyagcenter.com/event/akc-scentwork-trials/
LOCATION:Carroll County Agriculture Center – 1\, 700 Smith Ave.\, Westminster\, MD\, 21157\, United States
ATTACH;FMTTYPE=image/png:https://carrollcountyagcenter.com/wp-content/uploads/2020/08/AKC-Scent-Work-Logo_SM.png
END:VEVENT
BEGIN:VEVENT
DTSTART;TZID=UTC:20260321T160000
DTEND;TZID=UTC:20260321T230000
DTSTAMP:20260422T152500
CREATED:20230103T140836Z
LAST-MODIFIED:20251113T143535Z
UID:10000924-1774108800-1774134000@carrollcountyagcenter.com
SUMMARY:Sportsman's Bonanza and Dinner - March 21st
DESCRIPTION:CARROLL COUNTY SPORTSMAN’S \nBONANZA DRAWING & DINNER \nMarch 21\, 2026 \nDoors open at 4:00 p.m. \nCarroll County Ag. Center Shipley Arena \n$40 Donation Admits One Person \nDinner provided by Bullock’s and Harvest Chicken \nGames\, 50/50\, pull tabs\, money jars\, plus much more! \nCorn Hole Tournament and Moon Bounce for the kids. \n  \n9:31pm – Lucky Loser Drawing (Must Be Present To Win) \n  \n  \nALL PRIZES SUBJECT TO CHANGE \nAND MUST BE CLAIMED WITHIN \n30 DAYS OF THE RAFFLE \nPermit # 2026-20 \n  \nFirearms supplied by: \nBollinger Gunsmithing & Sales LLC \nTaneytown\, MD \n410-756-5454 \n  \nTickets Compliments of: \nTaneytown Tag & Title \nBrooks Bachtel \n410-756-2118 \n  \nTicket Number 001-1000
URL:https://carrollcountyagcenter.com/event/gun-raffle-april-1st/
LOCATION:Carroll County Agriculture Center\, 706 Agriculture Dr.\, Westminster\, MD\, 21157\, United States
ATTACH;FMTTYPE=image/jpeg:https://carrollcountyagcenter.com/wp-content/uploads/2023/01/raffle.jpg
ORGANIZER;CN="Carroll County Ag. Center":MAILTO:info@carrollcountyagcenter.com
END:VEVENT
BEGIN:VEVENT
DTSTART;TZID=UTC:20260327T080000
DTEND;TZID=UTC:20260327T160000
DTSTAMP:20260422T152500
CREATED:20200103T202340Z
LAST-MODIFIED:20251113T150313Z
UID:10000615-1774598400-1774627200@carrollcountyagcenter.com
SUMMARY:March 27th - Sugarloaf Mountain Region AACA Parts and Swap Meet
DESCRIPTION:  \nEverything Automotive Parts and Swap Meet \nFriday\, March 27\, 2026 – 8:00am – 4:00pm \nSaturday\, March 28\, 2026 – 8:00am – 2:00pm \nHosted by: Sugarloaf Mountain Region of the Antique Automobile Club of America \nRegistration Deadline: Deadline for Vendors and Exhibitors is March 20.  Discount for vendor spaces applies to space rentals before February 19\, 2026.  We will start taking applications on December 1\, 2025. \n*250 Indoor flea market 10 X 10 spaces  – $50-Discount before 2/19/25   –  $55 each after \n*Outdoor spaces are approximately 15 X 40 – $60-Discount before 2/19/25   –  $65 each after \n*Outdoor Vendor Area  is located in the Buck Miller Arena. \n*Cars for sale corral space – $25 per vehicle/ per day \n*Some single day spaces may be available – Inquire \nVendors are selling everything automotive.  Such as Antique auto parts\, car care products; signs\, toy and model cars\, tools\, hardware such as nuts\, bolts\, electrical parts\, tires and rims\, services such as restorations and auto detailing. \nFor registration form and information – contact: Jack Gallagher @ 301-674-5431
URL:https://carrollcountyagcenter.com/event/sugarloaf-mountain-region-aaca-parts-and-swap-meet-2/
LOCATION:Carroll County Agriculture Center\, 706 Agriculture Dr.\, Westminster\, MD\, 21157\, United States
ATTACH;FMTTYPE=image/jpeg:https://carrollcountyagcenter.com/wp-content/uploads/2020/01/antique-auto-swap.jpg
ORGANIZER;CN="Sugarloaf Mountain Region of the Antique Automobile Club of America":MAILTO:smraaca@aol.com
END:VEVENT
BEGIN:VEVENT
DTSTART;TZID=UTC:20260328T080000
DTEND;TZID=UTC:20260328T140000
DTSTAMP:20260422T152500
CREATED:20201102T194858Z
LAST-MODIFIED:20251113T150553Z
UID:10000608-1774684800-1774706400@carrollcountyagcenter.com
SUMMARY:March 28th - Sugarloaf Mountain Region AACA - Indoor/Outdoor Collector Auto - Truck - Motorcycle
DESCRIPTION:Everything Automotive Parts and Swap Meet \nFriday\, March 27\, 2026 – 8:00am – 4:00pm \nSaturday\, March 28\, 2026 – 8:00am – 2:00pm \nHosted by: Sugarloaf Mountain Region of the Antique Automobile Club of America \nRegistration Deadline: Deadline for Vendors and Exhibitors is March 20.  Discount for vendor spaces applies to space rentals before February 20\, 2026. \n*Indoor flea market 10 X 10 spaces  – $50-Discount/$55 each \n*Outdoor spaces are approximately 15 X 40 – $60-Discount/$65 each \n*Outdoor Vendor Area is located in the Buck Miller Arena. \n*Cars for sale corral space – $50 each per vehicle for both days. \n*Some single day spaces may be available – Inquire \nVendors are selling everything automotive.  Such as Antique auto parts\, car care products; signs\, toy and model cars\, tools\, hardware such as nuts\, bolts\, electrical parts\, tires and rims\, services such as restorations and auto detailing. \nFor registration form and information – contact: Jack Gallagher @ 301-674-5431
URL:https://carrollcountyagcenter.com/event/sugarloaf-mountain-region-aaca-indoor-outdoor-collector-auto-truck-motorcycle/
LOCATION:Carroll County Agriculture Center\, 706 Agriculture Dr.\, Westminster\, MD\, 21157\, United States
ATTACH;FMTTYPE=image/jpeg:https://carrollcountyagcenter.com/wp-content/uploads/2020/01/antique-auto-swap.jpg
ORGANIZER;CN="Sugarloaf Mountain Region of the Antique Automobile Club of America":MAILTO:smraaca@aol.com
END:VEVENT
BEGIN:VEVENT
DTSTART;TZID=UTC:20260329T100000
DTEND;TZID=UTC:20260329T150000
DTSTAMP:20260422T152500
CREATED:20200103T201615Z
LAST-MODIFIED:20260328T121406Z
UID:10000523-1774778400-1774796400@carrollcountyagcenter.com
SUMMARY:4-H Tack Sale/Swap - March 29th
DESCRIPTION:ADMISSION IS FREE! \nTack sale/swap this is a fundraiser for the 4-H Therapeutic Riding Program of Carroll County\, and the 24th anniversary of this event. \nNew and used tack\, equipment\, clothes\, & supplies\, just in time for spring riding! \nIf you are a vendor with horsey items\, you still have time to grab a space! The cost for a 10-by-20-foot space is $45 for the first space and $30 for each additional space. \nFor more information or to reserve a space email KAREN @ trphorsefair@gmail.com. \nNO COGGINS/SHOT CLINIC THIS YEAR.
URL:https://carrollcountyagcenter.com/event/4-h-tack-sale/
LOCATION:Carroll County Agriculture Center\, 706 Agriculture Dr.\, Westminster\, MD\, 21157\, United States
ATTACH;FMTTYPE=image/jpeg:https://carrollcountyagcenter.com/wp-content/uploads/2020/01/in_defense_of_farriers_header.jpg
ORGANIZER;CN="Therapuetic Riding Program of Carroll County":MAILTO:trphorsefair@gmail.com
END:VEVENT
END:VCALENDAR