BEGIN:VCALENDAR
VERSION:2.0
PRODID:-//Carroll County Ag Center - ECPv6.7.0//NONSGML v1.0//EN
CALSCALE:GREGORIAN
METHOD:PUBLISH
X-WR-CALNAME:Carroll County Ag Center
X-ORIGINAL-URL:https://carrollcountyagcenter.com
X-WR-CALDESC:Events for Carroll County Ag Center
REFRESH-INTERVAL;VALUE=DURATION:PT1H
X-Robots-Tag:noindex
X-PUBLISHED-TTL:PT1H
BEGIN:VTIMEZONE
TZID:UTC
BEGIN:STANDARD
TZOFFSETFROM:+0000
TZOFFSETTO:+0000
TZNAME:UTC
DTSTART:20260101T000000
END:STANDARD
TZID:UTC
BEGIN:STANDARD
TZOFFSETFROM:+0000
TZOFFSETTO:+0000
TZNAME:UTC
DTSTART:20260101T000000
END:STANDARD
END:VTIMEZONE
BEGIN:VEVENT
DTSTART;TZID=UTC:20260110T090000
DTEND;TZID=UTC:20260110T210000
DTSTAMP:20260422T170007
CREATED:20210107T231752Z
LAST-MODIFIED:20251113T144003Z
UID:10000737-1768035600-1768078800@carrollcountyagcenter.com
SUMMARY:4 - H Farm Toy Show and Auction - Jan. 10th
DESCRIPTION:Carroll County 4-H & FFA Fair Board will be hosting their annual 38th Farm Toy Show on Jan. 10\, 2026. \nToy Tractor Show is 9 A.M. – 3 P.M. located in the upper buildings at the Carroll County Ag Center. \nToy Auction will begin at 5:30 P.M. \nFood will be available for purchase. Admission $3.00. Ages 7 and under are FREE. All proceeds go to the Carroll County 4-H & FFA Fair. \nIf anyone is interested in a vendor space or has questions please call 410-984-0552. \nEvent will go on regardless of bad weather.
URL:https://carrollcountyagcenter.com/event/has-been-postponed-farm-toy-show-and-auction/
LOCATION:Carroll County Agriculture Center\, 706 Agriculture Dr.\, Westminster\, MD\, 21157\, United States
ATTACH;FMTTYPE=image/jpeg:https://carrollcountyagcenter.com/wp-content/uploads/2021/01/Toy-Tractor-Show.jpg
ORGANIZER;CN="Carroll County Fair":MAILTO:manager@carrollcountyfair.com
END:VEVENT
BEGIN:VEVENT
DTSTART;TZID=UTC:20260115T090000
DTEND;TZID=UTC:20260115T140000
DTSTAMP:20260422T170007
CREATED:20221215T132453Z
LAST-MODIFIED:20251113T144123Z
UID:10000781-1768467600-1768485600@carrollcountyagcenter.com
SUMMARY:2026 Carroll County Mid-Winter Meeting
DESCRIPTION:January 15\, 2026 – 9:00am – 2:00pm. – Located in the Burns Hall. \nPlease RSVP – 410-386-2760 \nGet your Pennsylvania and Maryland Sprayer Certifications!   \nThis program also provides Maryland Private Applicator recertification credit\, Maryland Nutrient Management Voucher recertification credit\, and Pennsylvania Pesticide credits. \nBurn’s Hall at the Carroll County Ag. Center\nPlease RSVP – 410-386-2760\nSchedule:\n9:00 – 9:15      Welcome Coffee and Doughnuts\n9:15 – 9:45      Permits\, Grading\, and Building Projects\n9:45 – 10:30   Legal Update on Pesticide Issues and Solar Update\n10:30 – 11:00 Maximizing Forage Quality\n11:00 – 11:30 Opportunities and Challenges of New Application\nTechnologies\n11:30 – 12:00 Latest Technology in Sprayer\, Autonomy\, See and\nSpray\, along with importance of documentation of\nfield data\n12:00 – 12:30 Lunch – Get your food and go back to the tables the\nmeeting will continue\n12:30 – 1:00 Update on the Movement\, Severity\, and Control\nOptions for Tar Spot\n1:00 – 1:30 Nutrient Management Update\n1:30 – 2:00 Pesticide Safety and Handling Update \nSponsored by: University of Maryland Extension and Atlantic Tractor. \n 
URL:https://carrollcountyagcenter.com/event/2023-carroll-county-mid-winter-meeting/
LOCATION:Carroll County Agriculture Center – 1\, 700 Smith Ave.\, Westminster\, MD\, 21157\, United States
ATTACH;FMTTYPE=image/jpeg:https://carrollcountyagcenter.com/wp-content/uploads/2022/12/sprayer.jpg
END:VEVENT
BEGIN:VEVENT
DTSTART;TZID=UTC:20260117T160000
DTEND;TZID=UTC:20260117T230000
DTSTAMP:20260422T170007
CREATED:20240206T121530Z
LAST-MODIFIED:20251113T144233Z
UID:10000817-1768665600-1768690800@carrollcountyagcenter.com
SUMMARY:Young Farmer's Bull & Oyster Roast - Jan. 17th
DESCRIPTION:  \n \nCarroll County Farm Bureau – Young Farmer’s \nBull & Oyster Roast – Located in the Burn’s Hall at the Ag. Center \n706 Ag. Center Dr. Westminster\, MD 21157 \nJan. 17th – Doors open at 4:00pm \nLet’s Enjoy: Raw Oysters – Fried Oysters – BBQ – Beer – Music – & More! \nRaffles and Pull Tabs! \nTickets are $50.00 \nFor tickets and more information\, please email: ccmdfarmbureau@gmail.com
URL:https://carrollcountyagcenter.com/event/young-farmers-bull-oyster-roast-march-9th/
LOCATION:Carroll County Agriculture Center – 1\, 700 Smith Ave.\, Westminster\, MD\, 21157\, United States
ATTACH;FMTTYPE=image/jpeg:https://carrollcountyagcenter.com/wp-content/uploads/2024/02/oysters.jpg
ORGANIZER;CN="Carroll County Farm Bureau":MAILTO:ccmdfarmbureau@gmail.com
END:VEVENT
BEGIN:VEVENT
DTSTART;TZID=UTC:20260130T080000
DTEND;TZID=UTC:20260131T120000
DTSTAMP:20260422T170007
CREATED:20211021T120108Z
LAST-MODIFIED:20251113T144403Z
UID:10000689-1769760000-1769860800@carrollcountyagcenter.com
SUMMARY:2026 Klondike Derby - Jan. 30th & 31st
DESCRIPTION:  \n \nHundreds of Boy Scouts and Cub Scouts will converge on the grounds of the Carroll County Agriculture Center in Westminster on Saturday\, braving the cold\, windy weather to partake in some outdoor fun at the Carroll District of the Boy Scouts of America’s annual Klondike Derby. \nScouts as young as 6 engaged in a variety of team-building activities from Friday night through Sunday. \nIn each activity\, teams will be scored based upon their performance\, which is dependent on how well they collaborated as a group. \n“The focus of this is everyone has to be working as a team\,” “Everything is teamwork and team spirit.” \nPossible activities could be:  trekking through the muddy grass\,  building sleds\, to get from one station to the next\, a trebuchet launch\, a zipline\, a tomahawk throw\, a catapult throw\, a maze\, fire starting\, a barrel race and an obstacle course.  Who knows what this year’s Klondike will bring. \nThere will be dozens of Boy Scouts who pitched tents in the grass and camped overnight on Friday and Saturday nights. The scent of burning firewood filled the crisp air. \n 
URL:https://carrollcountyagcenter.com/event/klondike-derby/
LOCATION:Carroll County Agriculture Center\, 706 Agriculture Dr.\, Westminster\, MD\, 21157\, United States
ATTACH;FMTTYPE=image/jpeg:https://carrollcountyagcenter.com/wp-content/uploads/2021/10/Klondike-Derby.jpg
ORGANIZER;CN="Baltimore Area Council BSA":MAILTO:Andrew.Lupus@scouting.org
END:VEVENT
BEGIN:VEVENT
DTSTART;TZID=UTC:20260131T073000
DTEND;TZID=UTC:20260201T200000
DTSTAMP:20260422T170007
CREATED:20211020T134832Z
LAST-MODIFIED:20251113T143901Z
UID:10000842-1769844600-1769976000@carrollcountyagcenter.com
SUMMARY:Synergy Sportz 10th Anti-Bullying Gymnastics Invitational - Jan. 31st & Feb. 1st
DESCRIPTION:Synergy Sportz Gymnastics Event  \nContact:  Shirley Scaggs               Phone: 301-874-6036 \nEvent Day & times:  \nSaturday\, January 31\, 2026 – 7:30am – 10:00pm \nSunday\, February 1\, 2026 – 7:30am – 8:00pm \n2025 ANTI-BULLYING INVITATIONAL\nAdmission: 13 years old & up – $20 \n5 – 12 years old & seniors 65+ – $15 \nUnder 5 – Free \n2 day pas – $30 \n$50 Raffle – Disney World Vacation worth $2\,600 \n4 nights & 3 days of parks (does not include air fair) \nLive drawing on Feb. 14th \nThis Disney World Vacation Fundraiser benefits the Synergy Sports Parents Association (SSPA). The SSPA raises funds to provide team building activities for our Team and help offset competition costs for our families. \n\n\n\n\n\n\nREGISTRATION\n\n\nLevels 2 – 10\nXCEL Bronze – Diamond\n\n\nAll Levels $125\nEarly Bird Discount $115\nTeam Fee $60 – teams with 3 or more gymnasts registered per level automatically enrolled\nRegister at www.usagym.org\n\nPAYMENT \n\n\n\n\n\nMake Checks Payable to:  Synergy Sportz\, Ltd\nMail to:  ABI c/o Synergy Sportz. Ltd\n\n4750 Winchester Blvd\, #2 \nFrederick\, MD 21703 \n\n\n\nDEADLINES\n\n\nSeptember 15th:  $115 Early Bird Registration and Payment Due\nNovember 1st: $125 All Registrations and Fees Due\nNovember 1st: No Refunds\nDecember 1st:  Level Changes and Substitutions after December 1st Cannot Be Guaranteed\n\n\n\n\nMODIFIED CAPITAL CUP\n\n\nEquipment provided by United Athletic International\n\n\n\n\nSYNERGY SPORTZ & SYNERGY SPORTZ PARENTS ASSOCIATION\n\nIs hosting the 10th Annual Anti- Bullying Invitational! \n\n$1 for every 9.0 or above is Donated to Support Anti-Bullying Education\nEvery Gymnast Receives a GK Custom Leotard\n100% All Around Awards\n\nContact Us at meets@synergysportz.com  or  (301) 874-6036 \n\n\n\n\n\n\n\n\n 
URL:https://carrollcountyagcenter.com/event/egspa-gymnastics-competition/
LOCATION:Carroll County Agriculture Center\, 706 Agriculture Dr.\, Westminster\, MD\, 21157\, United States
ATTACH;FMTTYPE=image/jpeg:https://carrollcountyagcenter.com/wp-content/uploads/2021/10/gymnastics-3.jpg
END:VEVENT
BEGIN:VEVENT
DTSTART;TZID=UTC:20260131T073000
DTEND;TZID=UTC:20260201T200000
DTSTAMP:20260422T170007
CREATED:20260106T234827Z
LAST-MODIFIED:20260106T234827Z
UID:10001071-1769844600-1769976000@carrollcountyagcenter.com
SUMMARY:Synergy Sportz 10th Anti-Bullying Gymnastics Invitational - Feb. 1st
DESCRIPTION:Synergy Sportz Gymnastics Event  \nContact:  Shirley Scaggs               Phone: 301-874-6036 \nEvent Day & times:  \nSaturday\, January 31\, 2026 – 7:30am – 10:00pm \nSunday\, February 1\, 2026 – 7:30am – 8:00pm \n2025 ANTI-BULLYING INVITATIONAL\nAdmission: 13 years old & up – $20 \n5 – 12 years old & seniors 65+ – $15 \nUnder 5 – Free \n2 day pas – $30 \n$50 Raffle – Disney World Vacation worth $2\,600 \n4 nights & 3 days of parks (does not include air fair) \nLive drawing on Feb. 14th \nThis Disney World Vacation Fundraiser benefits the Synergy Sports Parents Association (SSPA). The SSPA raises funds to provide team building activities for our Team and help offset competition costs for our families. \n\n\n\n\n\n\nREGISTRATION\n\n\nLevels 2 – 10\nXCEL Bronze – Diamond\n\n\nAll Levels $125\nEarly Bird Discount $115\nTeam Fee $60 – teams with 3 or more gymnasts registered per level automatically enrolled\nRegister at www.usagym.org\n\nPAYMENT \n\n\n\n\n\nMake Checks Payable to:  Synergy Sportz\, Ltd\nMail to:  ABI c/o Synergy Sportz. Ltd\n\n4750 Winchester Blvd\, #2 \nFrederick\, MD 21703 \n\n\n\nDEADLINES\n\n\nSeptember 15th:  $115 Early Bird Registration and Payment Due\nNovember 1st: $125 All Registrations and Fees Due\nNovember 1st: No Refunds\nDecember 1st:  Level Changes and Substitutions after December 1st Cannot Be Guaranteed\n\n\n\n\nMODIFIED CAPITAL CUP\n\n\nEquipment provided by United Athletic International\n\n\n\n\nSYNERGY SPORTZ & SYNERGY SPORTZ PARENTS ASSOCIATION\n\nIs hosting the 10th Annual Anti- Bullying Invitational! \n\n$1 for every 9.0 or above is Donated to Support Anti-Bullying Education\nEvery Gymnast Receives a GK Custom Leotard\n100% All Around Awards\n\nContact Us at meets@synergysportz.com  or  (301) 874-6036 \n\n\n\n\n\n\n\n\n 
URL:https://carrollcountyagcenter.com/event/synergy-sportz-10th-anti-bullying-gymnastics-invitational-feb-1st/
LOCATION:Carroll County Agriculture Center\, 706 Agriculture Dr.\, Westminster\, MD\, 21157\, United States
ATTACH;FMTTYPE=image/jpeg:https://carrollcountyagcenter.com/wp-content/uploads/2021/10/gymnastics-3.jpg
END:VEVENT
END:VCALENDAR