BEGIN:VCALENDAR
VERSION:2.0
PRODID:-//Carroll County Ag Center - ECPv6.7.0//NONSGML v1.0//EN
CALSCALE:GREGORIAN
METHOD:PUBLISH
X-WR-CALNAME:Carroll County Ag Center
X-ORIGINAL-URL:https://carrollcountyagcenter.com
X-WR-CALDESC:Events for Carroll County Ag Center
REFRESH-INTERVAL;VALUE=DURATION:PT1H
X-Robots-Tag:noindex
X-PUBLISHED-TTL:PT1H
BEGIN:VTIMEZONE
TZID:America/New_York
BEGIN:DAYLIGHT
TZOFFSETFROM:-0500
TZOFFSETTO:-0400
TZNAME:EDT
DTSTART:20260308T070000
END:DAYLIGHT
BEGIN:STANDARD
TZOFFSETFROM:-0400
TZOFFSETTO:-0500
TZNAME:EST
DTSTART:20261101T060000
END:STANDARD
END:VTIMEZONE
BEGIN:VEVENT
DTSTART;TZID=America/New_York:20260424T160000
DTEND;TZID=America/New_York:20260424T230000
DTSTAMP:20260424T012843
CREATED:20250214T013617Z
LAST-MODIFIED:20251113T151737Z
UID:10001025-1777046400-1777071600@carrollcountyagcenter.com
SUMMARY:Truck & Tractor Pull Classic - April 24th & 25th
DESCRIPTION:The Buckwild Truck & Tractor will host our 10th Anniversary weekend on April 24th & April 25th.Friday\, April 24th Tractor Pull4:00 PM – Gates Open5:00 PM – Farm Stock Pull7:00 PM – Interstate Tractor PullSatruday\, April 25th Truck Show\, Dirt & Semi Drags\, Truck Pull7:00 AM – Gates open for Show Trucks to Arrive9:00 AM – Gates open for Spectators.1:00 PM – Truck & Semi Drag Racing6:00 PM – Truck Pull$15:00 Per Day Admission$25.00 Weekend Pass Admission8 and Under are FREEFREE PARKING ON THE GROUNDSALL TICKETS SOLD AT THE GATEFOOD & BEER GARDEN available throughout the weekend.NO OUTSIDE FOOD & BEVERAGES ARE ALLOWED ON THE GROUNDSNO PETS ALLOWED EXCEPT for Service Dogs.All weekend proceeds will go to the Carroll County Agriculture Center & Carroll County 4-H FFA Fair.\nLook for a complete Schedule Rules & Regulations for the weekend’s event to come soon.
URL:https://carrollcountyagcenter.com/event/12738/
LOCATION:MD
ATTACH;FMTTYPE=image/jpeg:https://carrollcountyagcenter.com/wp-content/uploads/2025/02/2025-Tractor-pull.jpg
END:VEVENT
BEGIN:VEVENT
DTSTART;TZID=America/New_York:20260424T160000
DTEND;TZID=America/New_York:20260425T230000
DTSTAMP:20260424T012843
CREATED:20260422T161730Z
LAST-MODIFIED:20260422T163152Z
UID:10001077-1777046400-1777158000@carrollcountyagcenter.com
SUMMARY:Tractor Pull Schedule\, List of  Classes plus Rules and Regulations
DESCRIPTION:2026 BUCKWILD TRUCK & TRACTOR CLASSIC \n              WEEKEND SCHEDULE \nADMISSION $15.00/DAY – $25.00 WEEKEND PASS – tickets available at the gate only! \nFriday\, April 24th – TRACTOR PULL \n\n4:00pm – Gates Open\n4:30pm – Farm Stock Puller must be registered at the Finch Stage (Buck Miller arena)\n5:00pm – Farm Stock Pull\n6:30pm – Interstate Pullers must be registered at the Finch Stage (Buck Miller arena)\n7:30pm – Interstate Tractor Pull will start\n\nSaturday\, April 25th – TRUCK SHOW\, DIRT & SEMI DRAGS\, TRUCK PULL \n\n7:00am – Gates Open for Show Trucks to arrive\n9:00am – Gates open for Spectators\n10:30am – Trucks must be on the grounds and registered for the Truck Show in the Blizzard Building right across from the food pavilion. (*New location for 2026).\n11:00am – All dirt Drag Drivers must be registered on the Finch Stage (Buck Miller arena)\\n11:30am – Truck Show Judging begin\n11:30am – Dirt Drag Drivers Mandatory Meeting\n12:00pm – Test & Tune – 1 pass per truck\n1:00pm – Truck & Semi Drag Racing\n3:00pm – Loser Bracket $5.00 for all preregistered dirt drag trucks (if time permits)\n4:00pm – Truck Show trophies awarded in front of the Finch Stage\n5:30pm – Truck Pullers must be registered at the Finch Stage (Buck Miller arena)\n6:00pm – Truck Pull\n\n2026 Tractor Pull Classes Rules \n2026 Truck Dirt Drags & Truck Pull Rules & Regulations2
URL:https://carrollcountyagcenter.com/event/tractor-pull-classes-plus-rules-and-regulations/
LOCATION:Carroll County Agriculture Center\, 706 Agriculture Dr.\, Westminster\, MD\, 21157\, United States
ATTACH;FMTTYPE=image/jpeg:https://carrollcountyagcenter.com/wp-content/uploads/2025/02/buckwild-logo.jpg
ORGANIZER;CN="Carroll County Ag. Center":MAILTO:info@carrollcountyagcenter.com
END:VEVENT
END:VCALENDAR