BEGIN:VCALENDAR
VERSION:2.0
PRODID:-//Carroll County Ag Center - ECPv6.7.0//NONSGML v1.0//EN
CALSCALE:GREGORIAN
METHOD:PUBLISH
X-WR-CALNAME:Carroll County Ag Center
X-ORIGINAL-URL:https://carrollcountyagcenter.com
X-WR-CALDESC:Events for Carroll County Ag Center
REFRESH-INTERVAL;VALUE=DURATION:PT1H
X-Robots-Tag:noindex
X-PUBLISHED-TTL:PT1H
BEGIN:VTIMEZONE
TZID:America/New_York
BEGIN:DAYLIGHT
TZOFFSETFROM:-0500
TZOFFSETTO:-0400
TZNAME:EDT
DTSTART:20240310T070000
END:DAYLIGHT
BEGIN:STANDARD
TZOFFSETFROM:-0400
TZOFFSETTO:-0500
TZNAME:EST
DTSTART:20241103T060000
END:STANDARD
END:VTIMEZONE
BEGIN:VEVENT
DTSTART;TZID=America/New_York:20240822T170000
DTEND;TZID=America/New_York:20240822T210000
DTSTAMP:20260424T121444
CREATED:20240725T150127Z
LAST-MODIFIED:20240813T140041Z
UID:10000966-1724346000-1724360400@carrollcountyagcenter.com
SUMMARY:Carroll County Townhall Meeting Regarding MPRP- Aug. 22nd
DESCRIPTION:Townhall Meeting with Carroll County Commissioners and State Delegates regarding MPRP! \nThursday\, August 22nd \nDoors open at 5:00pm \nMeeting to start at 6:00pm to 9:00pm \n 1/1 time with the elected officials and/or information tables will be: 9:00pm – 10:00pm. \nThe Board of Commissioners (BoC) and the Carroll County Delegation will hold a joint listening session regarding the Maryland Piedmont Reliability Project on Thursday\, August 22\, 2024\, from 6:00 pm – 9:00 pm at the Carroll County Agriculture Center\, 706 Agricultural Center Dr\, Westminster\, MD 21157.https://www.carrollcountymd.gov/mprp \nInformation tables: Stop MPRP and Wakefield Valley Citizens Protecting Farmland. \nAll are Welcome!  Tell your neighbors\, tell your friends\, tell your family! \n 
URL:https://carrollcountyagcenter.com/event/stop-mprp-townhall-meeting-aug-22nd/
LOCATION:Carroll County Agriculture Center\, 706 Agriculture Dr.\, Westminster\, MD\, 21157\, United States
ATTACH;FMTTYPE=image/jpeg:https://carrollcountyagcenter.com/wp-content/uploads/2024/07/Town-Hall-Meeting-pic.jpg
END:VEVENT
END:VCALENDAR